BEGIN:VCALENDAR
VERSION:2.0
PRODID:-//Indonesia Banking School - ECPv6.15.17.1//NONSGML v1.0//EN
CALSCALE:GREGORIAN
METHOD:PUBLISH
X-WR-CALNAME:Indonesia Banking School
X-ORIGINAL-URL:https://ibs.ac.id
X-WR-CALDESC:Events for Indonesia Banking School
REFRESH-INTERVAL;VALUE=DURATION:PT1H
X-Robots-Tag:noindex
X-PUBLISHED-TTL:PT1H
BEGIN:VTIMEZONE
TZID:UTC
BEGIN:STANDARD
TZOFFSETFROM:+0000
TZOFFSETTO:+0000
TZNAME:UTC
DTSTART:20220101T000000
END:STANDARD
END:VTIMEZONE
BEGIN:VEVENT
DTSTART;TZID=UTC:20230204T130000
DTEND;TZID=UTC:20230204T150000
DTSTAMP:20260424T203143
CREATED:20230204T064055Z
LAST-MODIFIED:20230419T024858Z
UID:1909-1675515600-1675522800@ibs.ac.id
SUMMARY:International Webinar "Zakat and SDGs"
DESCRIPTION:Online Registration Link: \nhttps://bit.ly/Reg_ZakatAndSDGs
URL:https://ibs.ac.id/event/international-webinar-zakat-and-sdgs/
CATEGORIES:Webinar
ATTACH;FMTTYPE=image/jpeg:https://ibs.ac.id/wp-content/uploads/2023/02/Zakat-SDG-e1681872526267.jpg
END:VEVENT
END:VCALENDAR