BEGIN:VCALENDAR
VERSION:2.0
PRODID:-//Indonesia Banking School - ECPv6.15.17.1//NONSGML v1.0//EN
CALSCALE:GREGORIAN
METHOD:PUBLISH
X-WR-CALNAME:Indonesia Banking School
X-ORIGINAL-URL:https://ibs.ac.id
X-WR-CALDESC:Events for Indonesia Banking School
REFRESH-INTERVAL;VALUE=DURATION:PT1H
X-Robots-Tag:noindex
X-PUBLISHED-TTL:PT1H
BEGIN:VTIMEZONE
TZID:UTC
BEGIN:STANDARD
TZOFFSETFROM:+0000
TZOFFSETTO:+0000
TZNAME:UTC
DTSTART:20220101T000000
END:STANDARD
END:VTIMEZONE
BEGIN:VEVENT
DTSTART;VALUE=DATE:20230531
DTEND;VALUE=DATE:20230601
DTSTAMP:20260424T154157
CREATED:20230529T090800Z
LAST-MODIFIED:20230529T090913Z
UID:2808-1685491200-1685577599@ibs.ac.id
SUMMARY:International Guest Lecture From The World Bank Indonesia
DESCRIPTION:  \nSTIE IBS kembali menghadirkan Kuliah dosen tamu bertaraf internasional dan tak kalah pentingnya kedua pembicara yang hadir berasal dari The World Bank Indonesia. Dua sosok hebat yang menjadi pembicara kali ini yaitu Salman Alibhai & Neni Lestari yang merupakan Senior Financial Sector Specialist di The World Bank Indonesia selain kedua sosok hebat tersebut hadir moderator yang juga dosen tetap STIE IBS yaitu Ibu Dr. Nuri Wulandari S.E.\,M.Sc. Tema yang akan dibawakan berjudul “Empowering Change for a Sustainable Future” \nAcara ini akan diselenggarakan hari Rabu\, 31 Mei 2023 pada pukul 09.00-11.00 WIB bertempat di Kampus Indonesia Banking School di ruang Amphitheater 4.05 Lantai 4 \nKesempatan besar ini jangan sampai terlewat yaa Sobat IBS! Pastikan diri kalian hadir dan memiliki peluang mendapatkan ilmu dan wawasan terbaru dari para ahlinya terkait dengan green financing dimana hal tersebut merupakan topik hangat diseluruh dunia\, green financing sendiri merujuk kepada produk atau jasa keuangan yang dimana penggunaannya harus dengan pertimbangan lingkungan hidup yang berkelanjutan. Isu dari kerusakan lingkungan yang terus terjadi di bumi kita terus dikemukakan dari berbagai pihak dan pada acara dosen tamu kuliah kali ini akan dibahas lebih lanjut bagaimana sektor keuangan dan kontribusinya terhadap perlindungan lingkungan \nSo\, See You There Sobat IBS!
URL:https://ibs.ac.id/event/international-guest-lecture-from-the-world-bank-indonesia/
CATEGORIES:Education
ATTACH;FMTTYPE=image/jpeg:https://ibs.ac.id/wp-content/uploads/2023/05/Poster-International-Guest-Lecture-31052023.jpeg
END:VEVENT
END:VCALENDAR