BEGIN:VCALENDAR
VERSION:2.0
PRODID:-//Indonesia Banking School - ECPv6.15.17.1//NONSGML v1.0//EN
CALSCALE:GREGORIAN
METHOD:PUBLISH
X-WR-CALNAME:Indonesia Banking School
X-ORIGINAL-URL:https://ibs.ac.id
X-WR-CALDESC:Events for Indonesia Banking School
REFRESH-INTERVAL;VALUE=DURATION:PT1H
X-Robots-Tag:noindex
X-PUBLISHED-TTL:PT1H
BEGIN:VTIMEZONE
TZID:UTC
BEGIN:STANDARD
TZOFFSETFROM:+0000
TZOFFSETTO:+0000
TZNAME:UTC
DTSTART:20220101T000000
END:STANDARD
END:VTIMEZONE
BEGIN:VEVENT
DTSTART;TZID=UTC:20230915T090000
DTEND;TZID=UTC:20230915T110000
DTSTAMP:20260424T111011
CREATED:20230914T063330Z
LAST-MODIFIED:20230914T063405Z
UID:3217-1694768400-1694775600@ibs.ac.id
SUMMARY:National Social Security System : What Indonesia Can Learn From Japan
DESCRIPTION:
URL:https://ibs.ac.id/event/3217/
LOCATION:Auditorium IBS\, Lantai 2\, Indonesia
ATTACH;FMTTYPE=image/jpeg:https://ibs.ac.id/wp-content/uploads/2023/09/WhatsApp-Image-2023-09-14-at-08.48.32-1.jpeg
END:VEVENT
END:VCALENDAR