BEGIN:VCALENDAR
VERSION:2.0
PRODID:-//Indonesia Banking School - ECPv6.15.17.1//NONSGML v1.0//EN
CALSCALE:GREGORIAN
METHOD:PUBLISH
X-ORIGINAL-URL:https://ibs.ac.id
X-WR-CALDESC:Events for Indonesia Banking School
REFRESH-INTERVAL;VALUE=DURATION:PT1H
X-Robots-Tag:noindex
X-PUBLISHED-TTL:PT1H
BEGIN:VTIMEZONE
TZID:UTC
BEGIN:STANDARD
TZOFFSETFROM:+0000
TZOFFSETTO:+0000
TZNAME:UTC
DTSTART:20220101T000000
END:STANDARD
END:VTIMEZONE
BEGIN:VEVENT
DTSTART;TZID=UTC:20231026T073000
DTEND;TZID=UTC:20231027T170000
DTSTAMP:20260424T083422
CREATED:20230721T042932Z
LAST-MODIFIED:20230803T052845Z
UID:3026-1698305400-1698426000@ibs.ac.id
SUMMARY:International Conference on Banking and Finance (1ST ICBF) & National Conference on Banking And Finance (3RD NCBF)
DESCRIPTION:International Conference on Banking and Finance (1ST ICBF) & National Conference on Banking And Finance (3RD NCBF) \n“Digital Financial Service Revolution: Inclusive Opportunity Towards a Sustainable Society” \nWe hope you mark your calendar for this event :\nDate : Thursday – Friday\, 26 to 27 October 2023\nTime : 07.30 – 17.00 WIB \nWe also proudly declare our astounding speaker\, track-chair and scientific committee \nSPEAKER ACADEMIC\nAssoc. Prof.Dr. Sudaporn Sawmong from KMITL Business School\, Bangkok Thailand \nTRACK-CHAIR\nAssoc. Prof. Dr. Bogdan Nichifor from Faculty of Economics\, University of Bacau\, Rumania \nSCIENTIFIC COMMITTEE\nAssoc. Prof. Dr. Antyo Pracoyo\nDR. Chico A E Hindarto\nDr.Whony Rofianto\n(Faculty IBS) \nTOPIC & TRACK\nConference accepts Business & Management related topics in general including various topics in accounting\, Finance\, Marketing\, Organizations\, Entrepreneurship\, and Economics. \nTrack 1: Digital Innovation and Banking \nTrack 2: Accounting\,Financial Governance\, and Sustainability \nTrack 3: Islamic Economics and Finance \nFor more information and registration\,\nvisit : callpaper.ibs.ac.id
URL:https://ibs.ac.id/event/international-conference-on-banking-and-finance-1st-icbf-national-conference-on-banking-and-finance-3rd-ncbf/
ATTACH;FMTTYPE=image/png:https://ibs.ac.id/wp-content/uploads/2023/07/ICBF.png
END:VEVENT
END:VCALENDAR