BEGIN:VCALENDAR
VERSION:2.0
PRODID:-//Indonesia Banking School - ECPv6.15.17.1//NONSGML v1.0//EN
CALSCALE:GREGORIAN
METHOD:PUBLISH
X-WR-CALNAME:Indonesia Banking School
X-ORIGINAL-URL:https://ibs.ac.id
X-WR-CALDESC:Events for Indonesia Banking School
REFRESH-INTERVAL;VALUE=DURATION:PT1H
X-Robots-Tag:noindex
X-PUBLISHED-TTL:PT1H
BEGIN:VTIMEZONE
TZID:UTC
BEGIN:STANDARD
TZOFFSETFROM:+0000
TZOFFSETTO:+0000
TZNAME:UTC
DTSTART:20230101T000000
END:STANDARD
END:VTIMEZONE
BEGIN:VEVENT
DTSTART;TZID=UTC:20240109T080000
DTEND;TZID=UTC:20240109T170000
DTSTAMP:20260424T032643
CREATED:20240101T031640Z
LAST-MODIFIED:20240109T031923Z
UID:3599-1704787200-1704819600@ibs.ac.id
SUMMARY:Kuliah Dosen Tamu Pengauditan I "Strategi Audit dan Program Audit Secara Menyeluruh"
DESCRIPTION:Sobat IBS🙌🏻\nFirst round in 2024 for Kuliah Dosen Tamu!\nMata kuliah untuk Kuliah Dosen Tamu kali ini adalah Pengauditan 1\, Jadi ini wajib banget buat Sobat IBS yang mengikuti matkul ini untuk berpartisipasi yaah\, Acaranya akan dilaksanakan pada : \n🗓️ : Kamis\, 04 Januari 2024\n⏰ : 08.00 – 10.30 WIB\n📍 : Kampus IBS\, Amphitheater 405 \nDosen tamu spesial kali ini adalah Bapak Ivan Kanel\,SE.\,MM.\,Ak.\, BKP.\, CPA.\, CA.\, CPI.\, CPMA.\, CMA.\, ASEAN CPA.\, CTA.\, CBV.\, CACP.\, CAPM.\, CAPF.\, CDMS.\, CERA.\, CPS.\, CIBA.\, CGBA.\, CPRM.\, CRMA.\, CCMA.\, CAMP.\, CPGA.\, CHCM.\, CCBP.\, CSRP.\, CPHRM.\, CGRM.\, CRM.\, CHRM.\, CMIS.\, CIBT.\, CPPM dan yang akan menjadi moderator adalah Dosen STIE Indonesia Banking School yaitu Ibu Dr. Wiwi Idawati S.E.\, M.Si.\,Ak.CA.\, ACPA dengan tema acara yaitu “Strategi Audit dan Program Audit Secara Menyeluruh” \nDitunggu kehadirannya yaa Sobat IBS✨
URL:https://ibs.ac.id/event/kuliah-dosen-tamu-pengauditan-i-strategi-audit-dan-program-audit-secara-menyeluruh/
CATEGORIES:Kuliah Dosen Tamu
ATTACH;FMTTYPE=image/jpeg:https://ibs.ac.id/wp-content/uploads/2024/01/Poster-Kuliah-Dosen-Tamu-Akuntansi.jpeg
END:VEVENT
END:VCALENDAR