BEGIN:VCALENDAR
VERSION:2.0
PRODID:-//Indonesia Banking School - ECPv6.15.17.1//NONSGML v1.0//EN
CALSCALE:GREGORIAN
METHOD:PUBLISH
X-WR-CALNAME:Indonesia Banking School
X-ORIGINAL-URL:https://ibs.ac.id
X-WR-CALDESC:Events for Indonesia Banking School
REFRESH-INTERVAL;VALUE=DURATION:PT1H
X-Robots-Tag:noindex
X-PUBLISHED-TTL:PT1H
BEGIN:VTIMEZONE
TZID:UTC
BEGIN:STANDARD
TZOFFSETFROM:+0000
TZOFFSETTO:+0000
TZNAME:UTC
DTSTART:20230101T000000
END:STANDARD
END:VTIMEZONE
BEGIN:VEVENT
DTSTART;TZID=UTC:20240429T133000
DTEND;TZID=UTC:20240429T143000
DTSTAMP:20260423T182057
CREATED:20240425T031952Z
LAST-MODIFIED:20240426T033754Z
UID:4376-1714397400-1714401000@ibs.ac.id
SUMMARY:Pelantikan Satgas PPKS IBS Tahun 2024-2026
DESCRIPTION:Selamat datang di era baru! Kami dengan bangga mengumumkan pelantikan anggota baru Satgas PPKS. Bersama\, kita siap menjaga keamanan dan ketertiban dengan dedikasi dan integritas. 💪🏼👮🏻‍♂ \n“Stepping into a new era of service! Proudly announcing the induction of our new Satgas PPKS members. Together\, we stand ready to uphold security and order with dedication and integrity. 💪🏼👮🏻‍♂ \nSobat IBS\, here we are!Panitia Seleksi Satgas PPKS menyelenggarakan Pelantikan para Satgasnya nih dengan tema “Komitmen Bersatu\, Aksi Terdepan : Satgas PPKS Mengabdi Untuk Kemajuan” \n🗓️ : Senin\, 29 April 2024\n⏰ : 13.30 WIB – selesai\n🔗 : https://bit.ly/IBSsatgasPPKS \n#SatgasPPKS\n#PelantikanSatgas\n#KeamananPublik\n#KetertibanMasyarakat\n#PengamananWilayah\n#PenegakanHukum\n#PatroliKemanusiaan\n#PencegahanKriminalitas\n#SolidaritasSatgas\n#LindungiMasyarakat\n#BersamaKamiAman\n#PenjagaKemanusiaan\n#PemulihanKetertiban\n#BersamaSatgas\n#PeduliKemanusiaan\n#MisiKemanusiaan \n#SatgasPeduli\n#KomunitasAman\n#PemberdayaanMasyarakat\n#KerjaBersama\n#PemantauanKeamanan\n#IntegritasSatgas\n#PatroliMalam\n#PerdamaianLokal\n#KomitmenSatgas
URL:https://ibs.ac.id/event/pelantikan-satgas-ppks-ibs-tahun-2024-2026/
ATTACH;FMTTYPE=image/jpeg:https://ibs.ac.id/wp-content/uploads/2024/04/WhatsApp-Image-2024-04-26-at-10.07.18_950dad1b.jpg
END:VEVENT
END:VCALENDAR