BEGIN:VCALENDAR
VERSION:2.0
PRODID:-//Indonesia Banking School - ECPv6.15.17.1//NONSGML v1.0//EN
CALSCALE:GREGORIAN
METHOD:PUBLISH
X-WR-CALNAME:Indonesia Banking School
X-ORIGINAL-URL:https://ibs.ac.id
X-WR-CALDESC:Events for Indonesia Banking School
REFRESH-INTERVAL;VALUE=DURATION:PT1H
X-Robots-Tag:noindex
X-PUBLISHED-TTL:PT1H
BEGIN:VTIMEZONE
TZID:UTC
BEGIN:STANDARD
TZOFFSETFROM:+0000
TZOFFSETTO:+0000
TZNAME:UTC
DTSTART:20230101T000000
END:STANDARD
END:VTIMEZONE
BEGIN:VEVENT
DTSTART;VALUE=DATE:20240518
DTEND;VALUE=DATE:20240519
DTSTAMP:20260423T153150
CREATED:20240510T031213Z
LAST-MODIFIED:20240513T033015Z
UID:4413-1715990400-1716076799@ibs.ac.id
SUMMARY:FUNVEST 2024
DESCRIPTION:🚨FUNVEST 2024 IS COMING!!🚨 \n🙋🏻‍♀ Hello Young Investor!! Finally\, the awaited has arrived 👏🏻 \nFunvest is an event held by the Investment Gallery of the Indonesia Banking School. This year’s Funvest 2024 will further discuss “The Importance of Financial Planning for the Young Generation to Successful Investing”. So how do the young generation prepare themselves to invest successfully and of course practice to have stable finances in today’s young generation? \nIf you are interested in investing and want to know more about how young people invest\, come and join our event!! \nSpecial speaker From the Indonesian stock exchange IDX\nWith speaker:\nHead of Research Division \nBy theme:\nMarket Update 2024 \nIt will be held on :\n🗓 Saturday\, May 18\, 2024\n📍 Auditorium Indonesia Banking School\n⏰ 07.30WIB\n🎟️Ticket Price: FREE \n🔗 For registration\, you can register via this link 🔗\nhttps://bit.ly/SEMINARFUNVEST2024\nRegistration is open from 9 May to 17 May 2024 \n👉 Include KNOWLEDGE and E-CERTIFICATE 👈 \nHey young generation it’s time to conquer the world! Come on\, guys\, join our event for success from investing 😉 \nContact person:\n📲0856-9701-1428 (Oktavia)\n📲0882-2461-8579 (Ai) \nFor more information :\nInstagram : @funvest_ibs\nX : @funvest_ibs \n#Funvest2024\n#GaleriInvestasiIBS\n#IndonesianBankingSchool\n#millennialinvestor\n#younginvestor\n#seminarnasional
URL:https://ibs.ac.id/event/funvest-2024/
LOCATION:Auditorium IBS\, Lantai 2\, Indonesia
ATTACH;FMTTYPE=image/png:https://ibs.ac.id/wp-content/uploads/2024/05/Poster-Funvest-2024.png
END:VEVENT
END:VCALENDAR