BEGIN:VCALENDAR
VERSION:2.0
PRODID:-//Indonesia Banking School - ECPv6.15.17.1//NONSGML v1.0//EN
CALSCALE:GREGORIAN
METHOD:PUBLISH
X-ORIGINAL-URL:https://ibs.ac.id
X-WR-CALDESC:Events for Indonesia Banking School
REFRESH-INTERVAL;VALUE=DURATION:PT1H
X-Robots-Tag:noindex
X-PUBLISHED-TTL:PT1H
BEGIN:VTIMEZONE
TZID:UTC
BEGIN:STANDARD
TZOFFSETFROM:+0000
TZOFFSETTO:+0000
TZNAME:UTC
DTSTART:20230101T000000
END:STANDARD
END:VTIMEZONE
BEGIN:VEVENT
DTSTART;TZID=UTC:20240522T080000
DTEND;TZID=UTC:20240522T170000
DTSTAMP:20260423T182217
CREATED:20240521T032915Z
LAST-MODIFIED:20240522T041700Z
UID:4450-1716364800-1716397200@ibs.ac.id
SUMMARY:Berkebaya Sambil Pose 2024
DESCRIPTION:✨ Habis gelap terbitlah terang ✨ \nSelamat malam semua!\nDalam rangka memperingati 𝗛𝗮𝗿𝗶 𝗞𝗮𝗿𝘁𝗶𝗻𝗶 BEM IBS melalui Kementrian Pemberdaya Perempuan mengajak semua Sobat IBS untuk berkebaya atau berkain ke kampus nih!\nYang akan diselenggarakan pada : \n📆 : Rabu\, 22 Mei 2024\n🏫 : Lobby IBS\n⏰ : 08:00 sd selesai \nAcara ini juga punya hadiah menarik guys untuk Sobat IBS yang mau berpose di spot foto yang sudah disiapkan!! 😍 \n🎀 𝐁𝐄𝐑𝐊𝐄𝐁𝐀𝐘𝐀 𝐒𝐀𝐌𝐁𝐈𝐋 𝐏𝐎𝐒𝐄 🎀 \nCara dapetin hadiahnya kamu cukup 𝗯𝗲𝗿-𝗽𝗼𝘀𝗲 / 𝗳𝗼𝘁𝗼 𝗱𝗲𝗻𝗴𝗮𝗻 𝗸𝗲𝗯𝗮𝘆𝗮 / 𝗯𝗮𝗷𝘂 𝗮𝗱𝗮𝘁 / 𝗸𝗮𝗶𝗻 𝗺𝘂 𝘀𝗲-𝗺𝗲𝗻𝗮𝗿𝗶𝗸 𝗺𝘂𝗻𝗴𝗸𝗶𝗻 𝗱𝗶 𝘀𝗽𝗼𝘁 𝘆𝗮𝗻𝗴 𝘀𝘂𝗱𝗮𝗵 𝘀𝗲𝗱𝗶𝗮𝗸𝗮𝗻 𝘆𝗮𝗮! \nHadiah yang bisa kamu dapat berupa saldo e-wallet untuk 2 pemenang dengan IG Story dan pakaian terbaik dan ter-effort 💯 \n📍Syarat & ketentuan 📍 \n1. Wajib memakai kebaya / baju adat / kain\n2. Wajib foto di spot yang sudah di sediakan di Lobby\n3. Foto harus memakai template kartini yang akan dishare nanti\n4. Foto harus terlihat jelas dan head to toe\n5. Posting di IG Story kamu dengan hashtag #KartiniPose\, #IBSberGaya\, #KARTINIdiIBS\, jangan lupa tag @bem_ibs dan @kemenpp_ibs @kampusibs \n𝗡𝗢𝗧𝗘𝗦\n– Harus tetap sopan\n– Foto harus terlihat jelas\n– Semua mahasiswa IBS wajib ikut berkebaya \nFor more info\n👤 : 085773045167 (Fesya) \n*syarat dan ketentuan berlaku
URL:https://ibs.ac.id/event/berkebaya-sambil-pose-2024/
ATTACH;FMTTYPE=image/jpeg:https://ibs.ac.id/wp-content/uploads/2024/05/WhatsApp-Image-2024-05-22-at-11.16.29.jpeg
END:VEVENT
END:VCALENDAR