BEGIN:VCALENDAR
VERSION:2.0
PRODID:-//Indonesia Banking School - ECPv6.15.17.1//NONSGML v1.0//EN
CALSCALE:GREGORIAN
METHOD:PUBLISH
X-ORIGINAL-URL:https://ibs.ac.id
X-WR-CALDESC:Events for Indonesia Banking School
REFRESH-INTERVAL;VALUE=DURATION:PT1H
X-Robots-Tag:noindex
X-PUBLISHED-TTL:PT1H
BEGIN:VTIMEZONE
TZID:UTC
BEGIN:STANDARD
TZOFFSETFROM:+0000
TZOFFSETTO:+0000
TZNAME:UTC
DTSTART:20230101T000000
END:STANDARD
END:VTIMEZONE
BEGIN:VEVENT
DTSTART;VALUE=DATE:20240614
DTEND;VALUE=DATE:20240615
DTSTAMP:20260423T142443
CREATED:20240610T090401Z
LAST-MODIFIED:20240612T104756Z
UID:4621-1718323200-1718409599@ibs.ac.id
SUMMARY:1st IBS Research Exhibition 2024
DESCRIPTION:📚🌟 Let’s embark on a journey of academic discovery together! Join us for a groundbreaking event\, the 1st IBS Research Exhibition 2024!Dive deep into the realms of knowledge as we integrate the disciplines of Seminar Penelitian\, Design Thinking\, Personal Finance\, and Pengantar Ekonomi Makro \n📅 Date: Friday\, June 14th\, 2024 \n⏰ Time: Starting at 09:00 AM WIB \n📍 Location: Lobby classrooms of IBS \n🔍 What to Expect: \n\n35 Poster Presentations: Explore the innovative research projects by our talented students! From insightful findings to creative solutions\, witness the brilliance of our young scholars.\nFree Entry: Admission is free for all! Come and be inspired by the diverse range of topics presented by our student researchers.\nCertificate for Attendees: As a token of appreciation for your participation\, attendees will receive a certificate of attendance. Don’t miss the chance to add this valuable certificate to your portfolio!\n\nJoin us for a day of discovery\, inspiration\, and celebration of academic excellence. See you there! \nGet ready to explore\, connect and vote! \nSee you there Sobat IBS!
URL:https://ibs.ac.id/event/1st-ibs-research-exhibition-2024/
CATEGORIES:Education
ATTACH;FMTTYPE=image/png:https://ibs.ac.id/wp-content/uploads/2024/06/Poster-1ST-Research-Exhibition-June-14-2024.png
END:VEVENT
END:VCALENDAR