BEGIN:VCALENDAR
VERSION:2.0
PRODID:-//Indonesia Banking School - ECPv6.15.17.1//NONSGML v1.0//EN
CALSCALE:GREGORIAN
METHOD:PUBLISH
X-ORIGINAL-URL:https://ibs.ac.id
X-WR-CALDESC:Events for Indonesia Banking School
REFRESH-INTERVAL;VALUE=DURATION:PT1H
X-Robots-Tag:noindex
X-PUBLISHED-TTL:PT1H
BEGIN:VTIMEZONE
TZID:UTC
BEGIN:STANDARD
TZOFFSETFROM:+0000
TZOFFSETTO:+0000
TZNAME:UTC
DTSTART:20230101T000000
END:STANDARD
END:VTIMEZONE
BEGIN:VEVENT
DTSTART;VALUE=DATE:20240629
DTEND;VALUE=DATE:20240630
DTSTAMP:20260423T142408
CREATED:20240619T082111Z
LAST-MODIFIED:20240621T085105Z
UID:4761-1719619200-1719705599@ibs.ac.id
SUMMARY:INTERNATIONAL YOUTH ACCOUNTING FORUM 2024
DESCRIPTION:[OPEN REGISTRATION INTERNATIONAL YOUTH ACCOUNTING FORUM 2024] \nIBS Accounting Student Association Proudly Presents \n✨INTERNATIONAL YOUTH ACCOUNTING FORUM ✨ \nYouth Accounting serves as a dynamic platform where accounting students worldwide engage in ongoing discussions about their roles and contributions within the diverse field of accounting. This event is open to students globally and welcomes anyone interested in gaining insights into international accounting practices. This event come with theme ” Diversity In The World Of Accounting” \nRegister now and stand a chance to win exciting prizes! \n🏆 Prizes:\n🥇 1st best presenter: $45 + E-Certificate\n🥈 2nd best presenter: $35 + E-Certificate\n🥉 3rd best presenter: $20 + E-Certificate\n🏅 Favorite country representative \nIn addition to these rewards\, Youth Accounting will feature distinguished speakers\, including representatives from the Indonesian Accountants Association\, promising an engaging and insightful experience. \n🗓 Registration Timeline:\nMay 20 – June 27\, 2024 \n📌 Registration Link:\nhttps://bit.ly/YouthAccountingRegistration \n📌 Guidebook Link:\nhttps://bit.ly/BookletInternationalYouthAccountingForum \n===================\n☎ Contact Person:\nWhatsApp: 0858-9428-0293 (Qia)\nLine: ntasyaadwr46 (Natasya)\nEmail: hima.akuntansi@ibs.ac.id \n===================\nStay tuned to our social media channels for updates: \nInstagram: @himaakun_ibs\, @youthaccounting\nLine: bjs5584u\nTwitter: himaa_ibs\n===================\nAccounting Student Association\nTerm 2023/2024\n#creativityinharmony
URL:https://ibs.ac.id/event/youth-accounting-2024/
CATEGORIES:Event Mahasiswa
ATTACH;FMTTYPE=image/png:https://ibs.ac.id/wp-content/uploads/2024/06/Poster-youth-accounting-2024.png
END:VEVENT
END:VCALENDAR