BEGIN:VCALENDAR
VERSION:2.0
PRODID:-//Indonesia Banking School - ECPv6.15.17.1//NONSGML v1.0//EN
CALSCALE:GREGORIAN
METHOD:PUBLISH
X-ORIGINAL-URL:https://ibs.ac.id
X-WR-CALDESC:Events for Indonesia Banking School
REFRESH-INTERVAL;VALUE=DURATION:PT1H
X-Robots-Tag:noindex
X-PUBLISHED-TTL:PT1H
BEGIN:VTIMEZONE
TZID:UTC
BEGIN:STANDARD
TZOFFSETFROM:+0000
TZOFFSETTO:+0000
TZNAME:UTC
DTSTART:20230101T000000
END:STANDARD
END:VTIMEZONE
BEGIN:VEVENT
DTSTART;TZID=UTC:20241012T080000
DTEND;TZID=UTC:20241012T103000
DTSTAMP:20260423T085728
CREATED:20241009T102947Z
LAST-MODIFIED:20241010T104129Z
UID:5454-1728720000-1728729000@ibs.ac.id
SUMMARY:Lead with Heart and Tech: Unlock Emotional Intelligence in the AI Era!
DESCRIPTION:Get ready to enhance your leadership skills at our upcoming International Guest Lecture titled “Emotional Intelligence for Leaders: A.I vs E.I.” This event will held on : \n📅 Saturday\, October 12th\, 2024\n🕗 Time: 08.00-10.30 AM WIB\n🏛️ Amphitheater 405\, 4th Floor \nThis event is hybrid and the Key Speaker for this International Guest Lecture is Ijaz Nisar which is Founder & President of the CEO Club Pakistan with Prof. Dr. Djokosantoso Mulyono \, Chairman of the Senate at Indonesia Banking School as the moderator. Participants will receive an E-Certificate\, Don’t miss this opportunity to expand your understanding of emotional intelligence and its relevance in the era of artificial intelligence! \nIf you plan to attend in person\, make sure to be on time and to join online\, please register via this link: https://bit.ly/IBSAIvsEI. The Zoom link will be sent to your registered email. Thank you for your attention\, and we look forward to your participation!
URL:https://ibs.ac.id/event/lead-with-heart-and-tech-unlock-emotional-intelligence-in-the-ai-era/
LOCATION:Amphitheater 4.05
ATTACH;FMTTYPE=image/jpeg:https://ibs.ac.id/wp-content/uploads/2024/10/Poster-IGL-12-Okt-2024.jpeg
END:VEVENT
END:VCALENDAR