BEGIN:VCALENDAR
VERSION:2.0
PRODID:-//Indonesia Banking School - ECPv6.15.17.1//NONSGML v1.0//EN
CALSCALE:GREGORIAN
METHOD:PUBLISH
X-ORIGINAL-URL:https://ibs.ac.id
X-WR-CALDESC:Events for Indonesia Banking School
REFRESH-INTERVAL;VALUE=DURATION:PT1H
X-Robots-Tag:noindex
X-PUBLISHED-TTL:PT1H
BEGIN:VTIMEZONE
TZID:UTC
BEGIN:STANDARD
TZOFFSETFROM:+0000
TZOFFSETTO:+0000
TZNAME:UTC
DTSTART:20240101T000000
END:STANDARD
END:VTIMEZONE
BEGIN:VEVENT
DTSTART;TZID=UTC:20250207T090000
DTEND;TZID=UTC:20250207T120000
DTSTAMP:20260423T040726
CREATED:20250205T084014Z
LAST-MODIFIED:20250205T084014Z
UID:5724-1738918800-1738929600@ibs.ac.id
SUMMARY:📢 SOSIALISASI PERMENDIKBUDRISTEK No. 55 Tahun 2024 PPKPT 📢
DESCRIPTION:Satuan Tugas Pencegahan dan Kekerasan di Lingkungan Perguruan Tinggi Indonesia Banking School (SATGAS PPKPT IBS) mengajak seluruh Civitas Akademika IBS untuk berpartisipasi dalam Sosialisasi Permendikbudristek No. 55 Tahun 2024! \nKegiatan ini bertujuan untuk:\n✅ Mengenali jenis-jenis kekerasan yang harus diwaspadai\n✅ Memahami cara melapor & mendapatkan perlindungan\n✅ Mengetahui peran kita sebagai mahasiswa dalam menciptakan kampus bebas kekerasan\nPada :\n📆 Jumat\, 7 Februari 2025\n📍 Auditorium IBS\n⏰ Pukul 09.00 – 11.00 WIB \nMari bersama wujudkan lingkungan kampus yang aman\, nyaman\, dan bebas dari kekerasan!
URL:https://ibs.ac.id/event/%f0%9f%93%a2-sosialisasi-permendikbudristek-no-55-tahun-2024-ppkpt-%f0%9f%93%a2/
LOCATION:Auditorium IBS\, Lantai 2\, Indonesia
CATEGORIES:Education,PPKPT
ATTACH;FMTTYPE=image/jpeg:https://ibs.ac.id/wp-content/uploads/2025/02/PPKPT.jpeg
END:VEVENT
END:VCALENDAR