BEGIN:VCALENDAR
VERSION:2.0
PRODID:-//Indonesia Banking School - ECPv6.15.17.1//NONSGML v1.0//EN
CALSCALE:GREGORIAN
METHOD:PUBLISH
X-WR-CALNAME:Indonesia Banking School
X-ORIGINAL-URL:https://ibs.ac.id
X-WR-CALDESC:Events for Indonesia Banking School
REFRESH-INTERVAL;VALUE=DURATION:PT1H
X-Robots-Tag:noindex
X-PUBLISHED-TTL:PT1H
BEGIN:VTIMEZONE
TZID:UTC
BEGIN:STANDARD
TZOFFSETFROM:+0000
TZOFFSETTO:+0000
TZNAME:UTC
DTSTART:20240101T000000
END:STANDARD
END:VTIMEZONE
BEGIN:VEVENT
DTSTART;TZID=UTC:20250217T080000
DTEND;TZID=UTC:20250217T170000
DTSTAMP:20260423T040647
CREATED:20250215T035341Z
LAST-MODIFIED:20250306T040859Z
UID:5792-1739779200-1739811600@ibs.ac.id
SUMMARY:Empowering Students: Building an AI-Responsible Future
DESCRIPTION:Get ready for a responsible digital financial future! \nJoin us at the International General Lecture titled ‘Empowering Students: Building an AI-Responsible Future’ on Monday\, February 17th\, 2025\, at 10.30-12.00 WIB in the IBS Auditorium\, 2nd floor. 🗓️💡 \nFeaturing expert speaker Dr. Abdul Aziz Ahmad from Multimedia University and moderator Nova Novita\, S.E.\, M.S.Ak\, this event will provide new insights into the role of AI in finance and higher education. 🎤📚 \nDon’t miss the chance to receive an E-Certificate!
URL:https://ibs.ac.id/event/empowering-students-building-an-ai-responsible-future/
ATTACH;FMTTYPE=image/jpeg:https://ibs.ac.id/wp-content/uploads/2025/03/17-Feb.jpeg
END:VEVENT
END:VCALENDAR