BEGIN:VCALENDAR
VERSION:2.0
PRODID:-//Indonesia Banking School - ECPv6.15.17.1//NONSGML v1.0//EN
CALSCALE:GREGORIAN
METHOD:PUBLISH
X-ORIGINAL-URL:https://ibs.ac.id
X-WR-CALDESC:Events for Indonesia Banking School
REFRESH-INTERVAL;VALUE=DURATION:PT1H
X-Robots-Tag:noindex
X-PUBLISHED-TTL:PT1H
BEGIN:VTIMEZONE
TZID:UTC
BEGIN:STANDARD
TZOFFSETFROM:+0000
TZOFFSETTO:+0000
TZNAME:UTC
DTSTART:20240101T000000
END:STANDARD
END:VTIMEZONE
BEGIN:VEVENT
DTSTART;TZID=UTC:20250314T080000
DTEND;TZID=UTC:20250314T120000
DTSTAMP:20260423T040733
CREATED:20250210T030557Z
LAST-MODIFIED:20250306T035336Z
UID:5789-1741939200-1741953600@ibs.ac.id
SUMMARY:Pertumbuhan Ekonomi 2024 dan Analisis Kekuatan Sektoral Ekonomi Indonesia 2025
DESCRIPTION:“Pertumbuhan Ekonomi 2024 dan Analisis Kekuatan Sektoral Ekonomi Indonesia 2025” \n🌟 Indonesia Banking School bekerja sama dengan ISEI Jakarta mengadakan seminar dosen tamu yang membahas mengenai pertumbuhan dan analisis kekuatan Sektoral dari perekonomian di Indonesia. \n📝Highlight Seminar:\n✅ Dr. Lana Soelistianingsih\, S.E.\, M.A. (Dosen FEB UI dan Ketua Bidang Pengembangan Ekonomi Wilayah Jakarta & Sekitarnya – ISEI Jakarta)\n✅ Moderator: Dr. Paulina\, S.E.\, M.Si. (Dosen tetap IBS). \n📆 Tanggal: 14 Februari 2025\n⏰ Waktu: 08.30 – 11.00 WIB\n📍 Tempat: Auditorium Lt. 2\, Kampus IBS \n📌Note : Wajib Hadir Untuk Mahasiswa yang Mengikuti Mata Kuliah Perekonomian Indonesia\, Pengantar Ekonomi Makro\, Teori Ekonomi Makro \n💬 Seminar ini menekankan pentingnya kolaborasi antara pemerintah\, pelaku industri\, dan akademisi dalam memperkuat sektor-sektor unggulan ekonomi guna mendorong pertumbuhan yang berkelanjutan dan berdaya saing di tahun 2025. \n🌟 IBS bangga menjadi bagian dari perjalanan menuju Indonesia Emas 2045\, mempersiapkan generasi muda yang kompeten dalam manajemen untuk mendukung pertumbuhan ekonomi Indonesia.
URL:https://ibs.ac.id/event/pertumbuhan-ekonomi-2024-dan-analisis-kekuatan-sektoral-ekonomi-indonesia-2025/
ATTACH;FMTTYPE=image/jpeg:https://ibs.ac.id/wp-content/uploads/2025/03/14-Feb.jpeg
END:VEVENT
END:VCALENDAR