BEGIN:VCALENDAR
VERSION:2.0
PRODID:-//Indonesia Banking School - ECPv6.15.17.1//NONSGML v1.0//EN
CALSCALE:GREGORIAN
METHOD:PUBLISH
X-WR-CALNAME:Indonesia Banking School
X-ORIGINAL-URL:https://ibs.ac.id
X-WR-CALDESC:Events for Indonesia Banking School
REFRESH-INTERVAL;VALUE=DURATION:PT1H
X-Robots-Tag:noindex
X-PUBLISHED-TTL:PT1H
BEGIN:VTIMEZONE
TZID:UTC
BEGIN:STANDARD
TZOFFSETFROM:+0000
TZOFFSETTO:+0000
TZNAME:UTC
DTSTART:20240101T000000
END:STANDARD
END:VTIMEZONE
BEGIN:VEVENT
DTSTART;TZID=UTC:20250623T080000
DTEND;TZID=UTC:20250628T170000
DTSTAMP:20260422T215615
CREATED:20250616T062943Z
LAST-MODIFIED:20250616T063318Z
UID:5991-1750665600-1751130000@ibs.ac.id
SUMMARY:IISAC 2025 External Futsal\, E-Sport Mobile Legend (General Public)
DESCRIPTION:📢✨BEM STIE IBS Proudly Present✨📢 \n🔱IISAC 2025🔱 \n‼We Are Finally Open For Registration‼ \n⚽FUTSAL EKSTERNAL⚽\n🗓REGISTRATION\n( Extend until 20 June 2025 ) \nSMA Sederajat\n📍Lapangan STIE Indonesia Banking School\n💸 Rp 300.000/Team + WO Rp 50.000 = Rp 350.000 \n🎮E-SPORT🎮\n🗓REGISTRATION\n( Extend until 20 June 2025 ) \nMOBILE LEGEND (GENERAL PUBLIC)\n📍ONLINE ( Internasional Participants\, Outside Jakarta)\n💸 Rp 50.000/Group (Indonesia)\n💸 Rp 100.000 or $ 8\,09 SDG/Group (Inetrnational Participatns) \nhttps://linktr.ee/isacibs_ \n⬇ Contact Person ⬇\n082297579239 (Shasa)\n085718321502 (Nadirah) \n🗣Nothing is Impossible: Push Beyond Limits to Victory! 🏆 \nRegister your team now‼🙌 \n💳Payment: Blu BCA Digital – 004713620750 / Nada Zulfahtun Hikmah
URL:https://ibs.ac.id/event/iisac-2025-external-futsal-e-sport-mobile-legend-general-public/
ATTACH;FMTTYPE=image/jpeg:https://ibs.ac.id/wp-content/uploads/2025/06/WhatsApp-Image-2025-06-16-at-13.22.46_9c27339d.jpg
END:VEVENT
END:VCALENDAR