BEGIN:VCALENDAR
VERSION:2.0
PRODID:-//Indonesia Banking School - ECPv6.15.17.1//NONSGML v1.0//EN
CALSCALE:GREGORIAN
METHOD:PUBLISH
X-ORIGINAL-URL:https://ibs.ac.id
X-WR-CALDESC:Events for Indonesia Banking School
REFRESH-INTERVAL;VALUE=DURATION:PT1H
X-Robots-Tag:noindex
X-PUBLISHED-TTL:PT1H
BEGIN:VTIMEZONE
TZID:UTC
BEGIN:STANDARD
TZOFFSETFROM:+0000
TZOFFSETTO:+0000
TZNAME:UTC
DTSTART:20240101T000000
END:STANDARD
END:VTIMEZONE
BEGIN:VEVENT
DTSTART;TZID=UTC:20250813T080000
DTEND;TZID=UTC:20250813T170000
DTSTAMP:20260422T183253
CREATED:20250812T072937Z
LAST-MODIFIED:20250813T024635Z
UID:6555-1755072000-1755104400@ibs.ac.id
SUMMARY:AI OPPORTUNITY LEARNING Batch 9
DESCRIPTION:📣 Mau belajar AI langsung dari praktisi industri secara GRATIS?\nYuk gabung di AI OPPORTUNITY LEARNING Batch 9 – program pembelajaran interaktif dan menyenangkan yang bisa kamu ikuti secara online dari mana saja! \n📅 Rabu\, 13 Agustus 2025\n🕘 09.00 – 13.00 WIB\n📍 Online via Zoom \n✨ Fasilitas yang kamu dapatkan:\n✅ Mentoring langsung dari para ahli\n✅ Sertifikat digital (E-Certificate)\n✅ Akses penuh ke Learning Management System\n✅ Bangun koneksi lewat komunitas AI\n✅ Giveaway spesial untuk peserta aktif! \n📘 Materi pembelajaran meliputi:\nAI Fundamentals: Pengenalan AI\, tools AI\, dan etika penggunaan\nGenerative AI: Dasar-dasar AI Generatif & LLM\nResponsible AI: Prinsip tanggung jawab dan keamanan dalam teknologi AI \n🎤 Narasumber inspiratif yang akan menemani kamu:\nAdhi Nugraha – Co-Founder BikinRindu\nRahmat Anggara – CEO Qasir.id (Alumni IBS)\nAnnisa Ulkhairiyah – Program Manager Nortis AI \n📲 Yuk daftar sekarang di:\nbit.ly/NORTIS-AIOL9\n(Atau langsung scan QR dari poster ya!) \n📌 Diselenggarakan oleh Nortis AI\nDidukung oleh: Google.org\, ADB\, AVPN\nBekerja sama dengan: Indigo & Indonesia Banking School Jakarta
URL:https://ibs.ac.id/event/ai-opportunity-learning-batch-9/
ATTACH;FMTTYPE=image/jpeg:https://ibs.ac.id/wp-content/uploads/2025/08/IBS-Nortis.jpeg
END:VEVENT
END:VCALENDAR