BEGIN:VCALENDAR
VERSION:2.0
PRODID:-//Indonesia Banking School - ECPv6.15.17.1//NONSGML v1.0//EN
CALSCALE:GREGORIAN
METHOD:PUBLISH
X-ORIGINAL-URL:https://ibs.ac.id
X-WR-CALDESC:Events for Indonesia Banking School
REFRESH-INTERVAL;VALUE=DURATION:PT1H
X-Robots-Tag:noindex
X-PUBLISHED-TTL:PT1H
BEGIN:VTIMEZONE
TZID:UTC
BEGIN:STANDARD
TZOFFSETFROM:+0000
TZOFFSETTO:+0000
TZNAME:UTC
DTSTART:20220101T000000
END:STANDARD
END:VTIMEZONE
BEGIN:VEVENT
DTSTART;TZID=UTC:20231103T090000
DTEND;TZID=UTC:20231103T100000
DTSTAMP:20260424T134650
CREATED:20231101T095309Z
LAST-MODIFIED:20231101T095309Z
UID:3271-1699002000-1699005600@ibs.ac.id
SUMMARY:The Current Emerging Trends of Global Islamic Banking
DESCRIPTION:Indonesia Banking School is proudly to present International Public Lecture entitled “The Current Emerging Trends of Global Islamic Banking” \nSpeaker: Dr Ali Fallahi (Country of Economist – Regional Hub of Indonesia\, Islamic Development Bank/IsDB) \nOpening Speech: Dr. Kusumaningtuti S. Soetiono (Chairman of Indonesia Banking School) \nModerator: Anna Sardiana\, MSi (Lecturer – Indonesia Banking School) \nThe event will be held on:\nDay/Date : Friday\, 3rd November 2023\nTime : 09.00-10.00 AM (Jakarta Time)\nPlatform : Zoom \nKindly join on the link provided below: https://bit.ly/PublicLectureIsDB \ne-certificate is provided for IBS Lectures & Students \nFor further information :\nprodimanajemen@ibs.ac.id\nMrs. Meta (0816793672)
URL:https://ibs.ac.id/event/the-current-emerging-trends-of-global-islamic-banking/
CATEGORIES:Education,Kuliah Umum,Webinar
ATTACH;FMTTYPE=image/jpeg:https://ibs.ac.id/wp-content/uploads/2023/11/WhatsApp-Image-2023-11-01-at-14.58.04.jpeg
END:VEVENT
BEGIN:VEVENT
DTSTART;TZID=UTC:20231124T083000
DTEND;TZID=UTC:20231124T170000
DTSTAMP:20260424T134650
CREATED:20231120T104234Z
LAST-MODIFIED:20231123T104625Z
UID:3429-1700814600-1700845200@ibs.ac.id
SUMMARY:Workshop Climate Financing
DESCRIPTION:Halo semua🙌🏻 \nClimate Reality Indonesia bekerjasama dengan Indonesian Banking School (IBS) akan mengadakan Workshop Climate Financing\, kegiatan ini bertujuan untuk memberikan pemahaman mengenai tantangan dan peluang yang terkait dengan pendanaan perubahan iklim. Kegiatan ini merupakan acara pembuka dan salah satu dari rangkaian UNFCCC Mock COP28 yang akan dilaksanakan pada tanggal 24-26 November di Indonesia Banking School tak lupa diinformasikan bahwa acara ini juga Hybrid sehingga Sobat IBS bisa mengikutinya secara online✨ \nCatat agendanya besok ! \n📆 : Jumat\, 24 November 2023\n⏰ : 08.30 – 17.00 WIB\n📍: Ruang Auditorium Utama\, Indonesia Banking School\n🔗 : bit.ly/workshopclimatefinance \nKami tunggu kehadirannya baik offline maupun online😊
URL:https://ibs.ac.id/event/workshop-climate-financing/
LOCATION:Auditorium IBS\, Lantai 2\, Indonesia
CATEGORIES:Education
ATTACH;FMTTYPE=image/jpeg:https://ibs.ac.id/wp-content/uploads/2023/11/WhatsApp-Image-2023-11-23-at-17.01.21.jpeg
END:VEVENT
BEGIN:VEVENT
DTSTART;TZID=UTC:20231124T133000
DTEND;TZID=UTC:20231124T153000
DTSTAMP:20260424T134650
CREATED:20231121T035510Z
LAST-MODIFIED:20231123T104844Z
UID:3415-1700832600-1700839800@ibs.ac.id
SUMMARY:2nd Indonesia Banking School Research Forum (IRS)
DESCRIPTION:Halo Sobat IBS🙌🏻✨ \nProdi Manajemen\, P3M dan HIMA Manajemen IBS akan mengadakan acara IBS Research Forum (IRS) ke-2 yang akan diselenggarakan pada:\nHari : Jumat\, 24 November 2023\nPukul : 13.30 – 15.30 WIB\nTempat : Amphitheater LT. 4\, 405\nTema : Management Research\nNarasumber : Dr. Whony Rofianto\, S.T.\, M.Si.; Ossi Ferli\, S.T.\, S.E.\, M.S.M.; dan Santi Rimadias\, S.P.\, M.Si.\nModerator : Dr. Taufiq Hidayat\, S.E.Ak\, M.BankFin \nLink Pendaftaran: https://bit.ly/regirf2
URL:https://ibs.ac.id/event/2nd-indonesia-banking-school-research-forum-irs/
LOCATION:Amphitheater 4.05
CATEGORIES:Education
ATTACH;FMTTYPE=image/jpeg:https://ibs.ac.id/wp-content/uploads/2023/11/WhatsApp-Image-2023-11-23-at-14.48.09-1.jpeg
END:VEVENT
END:VCALENDAR