BEGIN:VCALENDAR
VERSION:2.0
PRODID:-//Indonesia Banking School - ECPv6.15.17.1//NONSGML v1.0//EN
CALSCALE:GREGORIAN
METHOD:PUBLISH
X-ORIGINAL-URL:https://ibs.ac.id
X-WR-CALDESC:Events for Indonesia Banking School
REFRESH-INTERVAL;VALUE=DURATION:PT1H
X-Robots-Tag:noindex
X-PUBLISHED-TTL:PT1H
BEGIN:VTIMEZONE
TZID:UTC
BEGIN:STANDARD
TZOFFSETFROM:+0000
TZOFFSETTO:+0000
TZNAME:UTC
DTSTART:20240101T000000
END:STANDARD
END:VTIMEZONE
BEGIN:VEVENT
DTSTART;TZID=UTC:20250604T160000
DTEND;TZID=UTC:20250604T180000
DTSTAMP:20260422T195352
CREATED:20250603T074502Z
LAST-MODIFIED:20250603T074502Z
UID:5980-1749052800-1749060000@ibs.ac.id
SUMMARY:Live QnA bareng Prodi Manajemen
DESCRIPTION:Jangan Sampai Ketinggalan!\nYuk ikuti Live QnA bareng Prodi Manajemen 🎓✨\nTema: “Kuliah Manajemen Bisa Jadi Apa?”\n📅 Tanggal: 4 Juni 2025\n🕓 Pukul: 16.00 WIB – selesai\n📍 Live di TikTok @ibs_ambassador \nDipandu oleh:\n🎙️ Azmal Hali (Mahasiswa Manajemen 2023)\n🎤 Meta Andriani\, SE.\, MM (Kapordi Manajemen) \n💡 Cari tahu prospek karier dan tanya langsung seputar dunia manajemen!\nJangan lupa ajak temanmu juga ya! 🔥 \n#IBS #IBS2025 #ManajemenIBS #KuliahManajemen #TikTokLive #QnAIBS #KampusMerdeka #GreenCampus
URL:https://ibs.ac.id/event/live-qna-bareng-prodi-manajemen/
CATEGORIES:Education
ATTACH;FMTTYPE=image/png:https://ibs.ac.id/wp-content/uploads/2025/06/Manajemen.png
END:VEVENT
BEGIN:VEVENT
DTSTART;TZID=UTC:20250612T080000
DTEND;TZID=UTC:20250612T170000
DTSTAMP:20260422T195352
CREATED:20250609T085939Z
LAST-MODIFIED:20250714T090206Z
UID:6105-1749715200-1749747600@ibs.ac.id
SUMMARY:Workshop Pengembangan Kurikulum Bersama FMI Jakarta
DESCRIPTION:Workshop Pengembangan Kurikulum Bersama FMI Jakarta \nIndonesia Banking School (IBS) kembali menyelenggarakan Workshop Pengembangan Kurikulum pada Kamis\, 12 Juni 2025\, bertempat di Ruang 4.05 Lantai 4 IBS. Kegiatan ini menghadirkan narasumber utama Dr. Yasintha Soelasih\, SE.\, M.Si\, selaku Penasihat FMI Jakarta dan Ketua Tim Penyusun Kurikulum FMI. \nWorkshop dipandu oleh Dr. Erric Wijaya\, SE.\, ME\, dosen STIE Indonesia Banking School\, sebagai moderator. Diskusi berlangsung aktif dan produktif\, membahas berbagai strategi pembaruan kurikulum yang adaptif terhadap kebutuhan industri serta perkembangan pendidikan tinggi di Indonesia. \nKegiatan ini merupakan salah satu upaya IBS dalam mewujudkan kurikulum yang unggul dan berdaya saing tinggi\, sejalan dengan visi Green Campus dan semangat 20 tahun IBS berkarya untuk negeri.
URL:https://ibs.ac.id/event/workshop-pengembangan-kurikulum-bersama-fmi-jakarta/
CATEGORIES:Education
ATTACH;FMTTYPE=image/png:https://ibs.ac.id/wp-content/uploads/2025/07/Workshop-Pengembangan-Kurikulum.png
END:VEVENT
BEGIN:VEVENT
DTSTART;TZID=UTC:20250613T080000
DTEND;TZID=UTC:20250613T170000
DTSTAMP:20260422T195352
CREATED:20250609T090223Z
LAST-MODIFIED:20250806T033908Z
UID:6108-1749801600-1749834000@ibs.ac.id
SUMMARY:Bersama Pakar Akuntansi dan Keuangan Syariah
DESCRIPTION:IBS Selenggarakan Workshop Pengembangan Kurikulum Bersama Pakar Akuntansi dan Keuangan Syariah \nDalam rangka meningkatkan kualitas kurikulum yang relevan dengan kebutuhan industri dan perkembangan ilmu pengetahuan\, Indonesia Banking School (IBS) menggelar Workshop Pengembangan Kurikulum pada Jumat\, 13 Juni 2025\, bertempat di Ruang 4.05 Lantai 4 IBS. \nKegiatan ini menghadirkan dua pembicara ahli\, yaitu Dr. Sekar Mayangsari\, Ak.\, CA.\, M.Si.\, CMA\, Wakil Ketua II Bidang Riset dan Publikasi IAI-KAPd serta Kaprodi Magister Akuntansi Universitas Trisakti\, dan Dr. Dina Febriani Darmansyah\, SE.\, MM\, Pengurus Asosiasi Prodi Keuangan & Perbankan Syariah. Workshop dipandu oleh Dr. Erric Wijaya\, SE.\, ME\, Dosen STIE IBS\, sebagai moderator. \nMelalui diskusi yang intensif dan mendalam\, kegiatan ini diharapkan dapat menghasilkan rekomendasi pengembangan kurikulum yang adaptif\, unggul\, dan berorientasi pada masa depan pendidikan tinggi serta dunia kerja.
URL:https://ibs.ac.id/event/ibs-selenggarakan-workshop-pengembangan-kurikulum-bersama-pakar-akuntansi-dan-keuangan-syariah/
CATEGORIES:Education
ATTACH;FMTTYPE=image/png:https://ibs.ac.id/wp-content/uploads/2025/07/Workshop-Pengembangan-Kurikulum-2.png
END:VEVENT
BEGIN:VEVENT
DTSTART;TZID=UTC:20250619T080000
DTEND;TZID=UTC:20250619T170000
DTSTAMP:20260422T195352
CREATED:20250613T085516Z
LAST-MODIFIED:20250714T085935Z
UID:6102-1750320000-1750352400@ibs.ac.id
SUMMARY:World Englishes
DESCRIPTION:Get ready to be amazed! ✨ \nWe invite the esteemed IBS Lecturers and Educational Staff to witness our students’ performances in the English Presentation themed “World Englishes” \nWatch the exciting presentations in this event! 🤩 \nNote the date and location:\n🗓️ Day: Thursday\, June 19\, 2025\n⏰ Time: 08:00 AM WIB – until finished\n📍 Location: IBS Auditorium \nWitness the extraordinary potential of IBS students in mastering the English language! Your presence will be an invaluable source of encouragement. \nThank you! 👋 \nRespectfully\, \nIBS English Presentation Team
URL:https://ibs.ac.id/event/world-englishes/
CATEGORIES:Education
ATTACH;FMTTYPE=image/jpeg:https://ibs.ac.id/wp-content/uploads/2025/07/World-English.jpeg
END:VEVENT
END:VCALENDAR