BEGIN:VCALENDAR
VERSION:2.0
PRODID:-//Indonesia Banking School - ECPv6.15.17.1//NONSGML v1.0//EN
CALSCALE:GREGORIAN
METHOD:PUBLISH
X-WR-CALNAME:Indonesia Banking School
X-ORIGINAL-URL:https://ibs.ac.id
X-WR-CALDESC:Events for Indonesia Banking School
REFRESH-INTERVAL;VALUE=DURATION:PT1H
X-Robots-Tag:noindex
X-PUBLISHED-TTL:PT1H
BEGIN:VTIMEZONE
TZID:UTC
BEGIN:STANDARD
TZOFFSETFROM:+0000
TZOFFSETTO:+0000
TZNAME:UTC
DTSTART:20220101T000000
END:STANDARD
END:VTIMEZONE
BEGIN:VEVENT
DTSTART;TZID=UTC:20230526T080000
DTEND;TZID=UTC:20230526T120000
DTSTAMP:20260424T225258
CREATED:20230524T022538Z
LAST-MODIFIED:20230524T041909Z
UID:2747-1685088000-1685102400@ibs.ac.id
SUMMARY:Pelatihan Pengembangan dan Implementasi Ide Inovatif dan Kreatif Menjadi Bisnis
DESCRIPTION:Lab kewirausahaan atau Inkubasi Bisnis telah dibentuk dan diluncurkan oleh pimpinan IBS dan Yayasan Pengembangan Perbankan Indonesia (YPPI) pada April lalu. Inkubasi bisnis ini merupakan praktek nyata dari beberapa mata kuliah diantaranya\, kewirausahaan\, digital marketing\, studi kelayakan bisnis dan akuntansi. \nWorkshop ini diharapkan dapat membantu para mahasiswa untuk memahami cara membangun bisnis yang sukses di era digital dan mengembangkan ide-ide bisnis yang inovatif. Selain itu\, acara ini juga dapat membuka peluang kerjasama antara mahasiswa dengan inkubasi bisnis yang ada di kampus maupun di luar kampus. \nPastikan untuk mendaftarkan diri kalian dan jangan sampai ketinggalan workshop yang sangat bermanfaat ini ya Sobat IBS semua\, See you there!
URL:https://ibs.ac.id/event/pelatihan-pengembangan-dan-implementasi-ide-inovatif-dan-kreatif-menjadi-bisnis/
LOCATION:Auditorium IBS\, Lantai 2\, Indonesia
CATEGORIES:Education
ATTACH;FMTTYPE=image/jpeg:https://ibs.ac.id/wp-content/uploads/2023/05/WhatsApp-Image-2023-05-23-at-12.33.59.jpeg
END:VEVENT
END:VCALENDAR