BEGIN:VCALENDAR
VERSION:2.0
PRODID:-//Indonesia Banking School - ECPv6.15.17.1//NONSGML v1.0//EN
CALSCALE:GREGORIAN
METHOD:PUBLISH
X-WR-CALNAME:Indonesia Banking School
X-ORIGINAL-URL:https://ibs.ac.id
X-WR-CALDESC:Events for Indonesia Banking School
REFRESH-INTERVAL;VALUE=DURATION:PT1H
X-Robots-Tag:noindex
X-PUBLISHED-TTL:PT1H
BEGIN:VTIMEZONE
TZID:UTC
BEGIN:STANDARD
TZOFFSETFROM:+0000
TZOFFSETTO:+0000
TZNAME:UTC
DTSTART:20240101T000000
END:STANDARD
END:VTIMEZONE
BEGIN:VEVENT
DTSTART;TZID=UTC:20250110T080000
DTEND;TZID=UTC:20250110T113000
DTSTAMP:20260423T064012
CREATED:20250108T093056Z
LAST-MODIFIED:20250108T093056Z
UID:5613-1736496000-1736508600@ibs.ac.id
SUMMARY:Focus Group Discussion Pengembangan Bioekonomi Indonesia
DESCRIPTION:IRI Indonesia Mengadakan : \nFocus Group Discussion\n(Online & Offline) \nPengembangan Bioekonomi Indonesia \nFGD ini bertujuan untuk memaksimalkan kontribusi akademisi dalam menciptakan ekosistem bioekonomi yang inovatif\, inklusif\, dan berkelanjutan\, mendukung transformasi ekonomi Indonesia menuju visi Indonesia Emas 2045. Dengan menghadirkan narasumber yang ahli di bidangnya\, diskusi ini diharapkan mampu menggali ide-ide strategis dan solusi aplikatif untuk mengakselerasi pengembangan bioekonomi di berbagai sektor. \n📅 Catat Tanggalnya :\n10 Januari 2025 \nHybrid\nOffline (Undangan)\nKampus Indonesia banking School Jakarta (IBS) \nOnline (Zoom)\n🔎Link Zoom:\ntinyurl.com/IRIbioekonomi \nPendaftaran Peserta Online!\n🔗Link Pendaftaran:\ntinyurl.com/IRIFGDBIOEKO \nPeserta terdaftar Mendapatkan (Terbatas) :\n– Sertifikat\n– Materi \n——————————–\nInterfaith Rainforest Initiative Indonesia\nTemukan Kami di : \nInstagram :\ninstagram.com/iri_ind/\nWebsite :\niri-indonesia.org
URL:https://ibs.ac.id/event/focus-group-discussion-pengembangan-bioekonomi-indonesia/
CATEGORIES:Education,Webinar
ATTACH;FMTTYPE=image/jpeg:https://ibs.ac.id/wp-content/uploads/2025/01/IRIBS.jpeg
END:VEVENT
END:VCALENDAR