BEGIN:VCALENDAR
VERSION:2.0
PRODID:-//Indonesia Banking School - ECPv6.15.17.1//NONSGML v1.0//EN
CALSCALE:GREGORIAN
METHOD:PUBLISH
X-WR-CALNAME:Indonesia Banking School
X-ORIGINAL-URL:https://ibs.ac.id
X-WR-CALDESC:Events for Indonesia Banking School
REFRESH-INTERVAL;VALUE=DURATION:PT1H
X-Robots-Tag:noindex
X-PUBLISHED-TTL:PT1H
BEGIN:VTIMEZONE
TZID:UTC
BEGIN:STANDARD
TZOFFSETFROM:+0000
TZOFFSETTO:+0000
TZNAME:UTC
DTSTART:20240101T000000
END:STANDARD
END:VTIMEZONE
BEGIN:VEVENT
DTSTART;TZID=UTC:20250708T080000
DTEND;TZID=UTC:20250716T170000
DTSTAMP:20260422T233149
CREATED:20250708T091825Z
LAST-MODIFIED:20250724T103655Z
UID:6112-1751961600-1752685200@ibs.ac.id
SUMMARY:Global Vibe: International Summer Camp di Malaysia
DESCRIPTION:STIE IBS mengundang mahasiswa & dosen untuk ikut serta dalam Global Vibe: International Summer Camp di Malaysia! \n📍 UiTM Johor\, Malaysia\n📅 18–22 Agustus 2025\n🕘 Daftar sebelum: 16 Juli 2025\nBiaya terjangkau\, pengalaman tak terlupakan! \n💼 Mahasiswa dan Dosen: RM 850 – RM 1.000 (± Rp3.000.000 – Rp3.500.000 ) \n📌 Fasilitas lengkap: akomodasi\, makan\, transportasi lokal & kegiatan internasional.\n(✈️ Tiket pesawat tidak termasuk)\n🧭 Kunjungan ke Putrajaya\, KLCC\, Melaka & banyak lagi!\n🎓 Dapatkan pengalaman akademik & sosial bersama peserta internasional!\n🎯 Target: 10 mahasiswa dari STIE IBS\n📞 Hubungi International Office / Prodi masing-masing sekarang juga!
URL:https://ibs.ac.id/event/global-vibe-international-summer-camp-di-malaysia/
CATEGORIES:Education,International Office
ATTACH;FMTTYPE=image/jpeg:https://ibs.ac.id/wp-content/uploads/2025/07/Summer-Camp.jpeg
END:VEVENT
BEGIN:VEVENT
DTSTART;TZID=UTC:20250710T090000
DTEND;TZID=UTC:20250710T120000
DTSTAMP:20260422T233149
CREATED:20250610T100030Z
LAST-MODIFIED:20250806T033808Z
UID:6033-1752138000-1752148800@ibs.ac.id
SUMMARY:Talent Gap Kebutuhan SDM di Sektor Perbankan
DESCRIPTION:🔍 Sharing Session Pengembangan Kurikulum: Talent Gap Kebutuhan SDM di Sektor Perbankan📅 Kamis\, 10 Juli 2025📍 Ruang 4.05 Amphitheater Lt. 4 – Indonesia Banking School \nIndonesia Banking School kembali mengadakan kegiatan akademik yang inspiratif melalui sharing session bertajuk “Talent Gap Kebutuhan SDM di Sektor Perbankan.” Acara ini menghadirkan narasumber berkompeten di bidangnya: \n👩‍💼 Theresia KusumaningtyasDivision Head\, Learning and Development – PT Bank Permata\, Tbk \n👨‍💼 Edi Dwi Efendi\, SE.\, MBADean Operation\, Service & Support Academy – BSI Corporate University \nDengan dipandu oleh moderator:👔 Gatot Sugiono S. SE.\, MM – Wakil Ketua II & Dosen Indonesia Banking School \nAcara ini menjadi wadah strategis dalam menjembatani kebutuhan industri perbankan dengan dunia pendidikan\, khususnya dalam menyusun kurikulum yang relevan dengan perkembangan zaman dan kebutuhan SDM. \n🌱 Dukung terus langkah IBS menjadi kampus unggulan berbasis digital finance dan industri 4.0!
URL:https://ibs.ac.id/event/sharing-session-pengembangan-kurikulum-talent-gap-kebutuhan-sdm-di-sektor-perbankan/
CATEGORIES:Education
ATTACH;FMTTYPE=image/jpeg:https://ibs.ac.id/wp-content/uploads/2025/07/Sharing-Session.jpeg
END:VEVENT
END:VCALENDAR