BEGIN:VCALENDAR
VERSION:2.0
PRODID:-//Indonesia Banking School - ECPv6.15.17.1//NONSGML v1.0//EN
CALSCALE:GREGORIAN
METHOD:PUBLISH
X-WR-CALNAME:Indonesia Banking School
X-ORIGINAL-URL:https://ibs.ac.id
X-WR-CALDESC:Events for Indonesia Banking School
REFRESH-INTERVAL;VALUE=DURATION:PT1H
X-Robots-Tag:noindex
X-PUBLISHED-TTL:PT1H
BEGIN:VTIMEZONE
TZID:UTC
BEGIN:STANDARD
TZOFFSETFROM:+0000
TZOFFSETTO:+0000
TZNAME:UTC
DTSTART:20230101T000000
END:STANDARD
END:VTIMEZONE
BEGIN:VEVENT
DTSTART;TZID=UTC:20241206T133000
DTEND;TZID=UTC:20241206T170000
DTSTAMP:20260423T052921
CREATED:20241206T093246Z
LAST-MODIFIED:20241209T083654Z
UID:5581-1733491800-1733504400@ibs.ac.id
SUMMARY:Choose Your Best Major as Your Passion for Better Future
DESCRIPTION:📢 CAREER EXPERT 2024🌟\n“Choose Your Best Major as Your Passion for Better Future” \nCareer Expert merupakan kegiatan yang dapat membantu mahasiswa dalam menentukan pilihan untuk pendalaman jurusan Manajemen\, yaitu Manajemen SDM\, Keuangan\, Pemasaran\, dan Kewirausahaan. Career Expert menghadirkan para alumni-alumni yang memiliki pengalaman dan bidang pekerjaan yang relevan. Dengan harapan mahasiswa dapat menentukan jurusan apa yang sekiranya cocok dan akan diambil di semester berikutnya hingga ke bidang pekerjaannya. Kegiatan ini wajib dihadiri oleh seluruh mahasiswa/i semester 3 program studi Manajemen STIE Indonesia Banking School. \n📆Hari/tanggal: Jumat\, 6 Desember\n2024\n🕰️Waktu: 13.00 – 16.00 WIB\n📍Tempat: Auditorium STIE\nIndonesia Banking School \nSampai bertemu di Career Expert 2024 🚀
URL:https://ibs.ac.id/event/choose-your-best-major-as-your-passion-for-better-future/
CATEGORIES:Event Mahasiswa
ATTACH;FMTTYPE=image/jpeg:https://ibs.ac.id/wp-content/uploads/2024/12/Choose-Your-Best-Major-as-Your-Passion-for-Better-Future.jpeg
END:VEVENT
END:VCALENDAR