BEGIN:VCALENDAR
VERSION:2.0
PRODID:-//Indonesia Banking School - ECPv6.15.17.1//NONSGML v1.0//EN
CALSCALE:GREGORIAN
METHOD:PUBLISH
X-ORIGINAL-URL:https://ibs.ac.id
X-WR-CALDESC:Events for Indonesia Banking School
REFRESH-INTERVAL;VALUE=DURATION:PT1H
X-Robots-Tag:noindex
X-PUBLISHED-TTL:PT1H
BEGIN:VTIMEZONE
TZID:UTC
BEGIN:STANDARD
TZOFFSETFROM:+0000
TZOFFSETTO:+0000
TZNAME:UTC
DTSTART:20240101T000000
END:STANDARD
END:VTIMEZONE
BEGIN:VEVENT
DTSTART;TZID=UTC:20250505T103000
DTEND;TZID=UTC:20250505T120000
DTSTAMP:20260423T003807
CREATED:20250505T082944Z
LAST-MODIFIED:20250508T083621Z
UID:5897-1746441000-1746446400@ibs.ac.id
SUMMARY:INTERNATIONAL GENERAL LECTURE
DESCRIPTION:INTERNATIONAL GENERAL LECTURE\nDisaster Risk Financing and Insurance \nIndonesia Banking School dan Tokyo Keizai University\, Japan menghadirkan Kuliah Umum Internasional bertajuk “Disaster Risk Financing and Insurance” — sebuah topik penting dalam menghadapi ketidakpastian risiko bencana secara global dan lokal. \nSenin\, 5 Mei 2025\n10.30 – 12.00 WIB\nIBS Auditorium\, Lantai 2 \nNarasumber:\nProf. Shigenori Ishida\nFaculty of Business Administration\, Tokyo Keizai University \nModerator:\nDr. Ir. Hayu Prabowo\, M.Hum.\nDirector of International Office\, IBS \n 
URL:https://ibs.ac.id/event/international-general-lecture/
LOCATION:Auditorium IBS\, Lantai 2\, Indonesia
CATEGORIES:Education,Event Mahasiswa
ATTACH;FMTTYPE=image/png:https://ibs.ac.id/wp-content/uploads/2025/05/International-General-Lecture-600-x-300-cm-9.png
END:VEVENT
END:VCALENDAR