BEGIN:VCALENDAR
VERSION:2.0
PRODID:-//Indonesia Banking School - ECPv6.15.17.1//NONSGML v1.0//EN
CALSCALE:GREGORIAN
METHOD:PUBLISH
X-ORIGINAL-URL:https://ibs.ac.id
X-WR-CALDESC:Events for Indonesia Banking School
REFRESH-INTERVAL;VALUE=DURATION:PT1H
X-Robots-Tag:noindex
X-PUBLISHED-TTL:PT1H
BEGIN:VTIMEZONE
TZID:UTC
BEGIN:STANDARD
TZOFFSETFROM:+0000
TZOFFSETTO:+0000
TZNAME:UTC
DTSTART:20250101T000000
END:STANDARD
END:VTIMEZONE
BEGIN:VEVENT
DTSTART;TZID=UTC:20260420T080000
DTEND;TZID=UTC:20260420T170000
DTSTAMP:20260422T103048
CREATED:20260420T065724Z
LAST-MODIFIED:20260420T065724Z
UID:6932-1776672000-1776704400@ibs.ac.id
SUMMARY:INTERNATIONAL YOUTH ACCOUNTING FORUM 2026
DESCRIPTION:📢 [OPEN REGISTRATION!]\n🌍 INTERNATIONAL YOUTH ACCOUNTING FORUM 2026 IS HERE! 🌍 \n✨ “Accounting in a Borderless Economy: Innovation\, Integrity\, and Global Financial Responsibility.” ✨ \nCalling all students across Indonesia and Southeast Asia! 🔥\nIt’s time to showcase your skills and insights in accounting through a challenging forum and competition that broadens global perspectives in today’s borderless economic era! 💪 \n🎯 Participant Category:\n* Undergraduate students from domestic universities and Southeast Asia\n* Individual participation (1 person)\n* Participants must be active students at their respective institutions \n🏆 Prizes + E-Certificate!\n(University Level)\n🥇 1st Place: IDR 1\,500\,000 + E-Certificate\n🥈 2nd Place: IDR 1\,000\,000 + E-Certificate \n🔗 Registration Link:\n👉 https://bit.ly/4siE5oy \n🔗 Booklet:\n👉 https://bit.ly/4lk23gy \n💰 Registration Fee (University Level):\nBatch 1: IDR 75\,000 (March 16 – April 5)\nBatch 2: IDR 100\,000 (April 6 – April 18) \n📅 Timeline:\n📍 Technical Meeting – April 23\n📍 Preliminary Round (Online) – May 9\n📍 Hybrid Round (Online & Offline) – May 16\n📍 Winner Announcement & Awarding Ceremony – May 16 \n=================== \n📲 Contact Person:\nEunike – 0896-0168-9828\nLine: nelssky_ (Nelsa) \n=================== \n📲 Register now and demonstrate your ability to understand accounting from a global perspective! ✨ \n🚀 Empowering Youth Through Global Accounting Perspectives 🚀 \nDon’t forget to stay tuned to our social media:\nInstagram: @himaakun_ibs\nX: @himakunIBS\nAccounting Student Association\nPeriod 2025/2026
URL:https://ibs.ac.id/event/international-youth-accounting-forum-2026/
CATEGORIES:Event Mahasiswa
ATTACH;FMTTYPE=image/jpeg:https://ibs.ac.id/wp-content/uploads/2026/04/WhatsApp-Image-2026-04-17-at-14.36.31-1.jpeg
END:VEVENT
END:VCALENDAR