BEGIN:VCALENDAR
VERSION:2.0
PRODID:-//Indonesia Banking School - ECPv6.15.17.1//NONSGML v1.0//EN
CALSCALE:GREGORIAN
METHOD:PUBLISH
X-WR-CALNAME:Indonesia Banking School
X-ORIGINAL-URL:https://ibs.ac.id
X-WR-CALDESC:Events for Indonesia Banking School
REFRESH-INTERVAL;VALUE=DURATION:PT1H
X-Robots-Tag:noindex
X-PUBLISHED-TTL:PT1H
BEGIN:VTIMEZONE
TZID:UTC
BEGIN:STANDARD
TZOFFSETFROM:+0000
TZOFFSETTO:+0000
TZNAME:UTC
DTSTART:20230101T000000
END:STANDARD
END:VTIMEZONE
BEGIN:VEVENT
DTSTART;TZID=UTC:20241014T080000
DTEND;TZID=UTC:20241123T170000
DTSTAMP:20260422T100154
CREATED:20241021T035353Z
LAST-MODIFIED:20241118T035626Z
UID:5533-1728892800-1732381200@ibs.ac.id
SUMMARY:ARTCOUNTING 5.0 2024
DESCRIPTION:[OPEN REGISTRATION NATIONAL ACCOUNTING COMPETITION 2024] \nHimpunan Mahasiswa Akuntansi Proudly Present \n✨ ARTCOUNTING 5.0 ✨ \nDiperuntukkan bagi Siswa SMA\, SMK\, dan MAN \n🏆 Rewards :\n1st Place 🥇 : Rp 4.000.000 + Sertifikat\n2nd Place 🥈 : Rp 3.000.000 + Sertifikat\n3rd Place 🥉 : Rp 2.000.000 + Sertifikat \nMenarik bukan? Yuk buruan daftar \n🗓 Registration Timeline\nGelombang 1 (tanggal 14 – 19 Oktober 2024)\nGelombang 2 (tanggal 21 Oktober – 2 November 2024)\nGelombang 3 (tanggal 3 – 23 November 2024) \n📌 Registration Link\n– Lomba National Accounting Competition:\nhttps://bit.ly/PendaftaranNACArtCounting5 \n📚 Guidebook link\nhttps://bit.ly/BookletArtCounting5NAC \nBiaya pendaftaran\n– Rp50.000/team (Gelombang 1)\n– Rp 75.000/team (Gelombang 2)\n– Rp 125.000/team (Gelombang 3) \n💳 No. Rekening :\n* 009450373109 BCA DIGITAL a/n Laura Kusuma \nBukti pembayaran dikirimkan melalui link pendaftaran 🙌🏻\n===================\n☎ Contact Person :\nWA : 0822-5882-9887 (Nur Baiti)\nLine : sheilaaanazwa (Sheila)\nEmail : hima.akuntansi@ibs.ac.id \n===================\nDon’t forget to stay tuned to our social media: \n* Instagram : @himaakun_ibs\n* Line : sheilaaanazwa \n===================\nHimpunan Mahasiswa Akuntansi\nPeriode 2024/2025 \n#IntegrityOpennessProfessionality
URL:https://ibs.ac.id/event/artcounting-5-0-2024/
CATEGORIES:Event Mahasiswa
ATTACH;FMTTYPE=image/png:https://ibs.ac.id/wp-content/uploads/2024/11/ARTCOUNTING-5.0.png
END:VEVENT
BEGIN:VEVENT
DTSTART;TZID=UTC:20240820T080000
DTEND;TZID=UTC:20240823T170000
DTSTAMP:20260422T100154
CREATED:20240816T111835Z
LAST-MODIFIED:20240819T112131Z
UID:5248-1724140800-1724432400@ibs.ac.id
SUMMARY:Program Orientasi Mahasiswa (POM) 2024
DESCRIPTION:Welcome to the beginning of your incredible journey✨ \nIndonesia Banking School back with their annual event to welcoming new student!\nProgram Orientasi Mahasiswa (POM) 2024 hadir dengan tema “Sahitya Arsa” dengan makna mendalam untuk semangat membangun kebersamaan\, solidaritas dan kegembiraan! \nAcara akan diselenggarakan pada 20-23 Agustus 2024 Dengan semangat kebersamaan POM 2024 diharapkan menjadi pijakan pertama yang kokoh bagi para mahasiswa baru dalam mengejar mimpi dan mewujudkan potensi mereka!
URL:https://ibs.ac.id/event/program-orientasi-mahasiswa-pom-2024/
CATEGORIES:Event Mahasiswa
ATTACH;FMTTYPE=image/png:https://ibs.ac.id/wp-content/uploads/2024/08/POM-2024.png
END:VEVENT
BEGIN:VEVENT
DTSTART;TZID=UTC:20240708T080000
DTEND;TZID=UTC:20240714T170000
DTSTAMP:20260422T100154
CREATED:20240601T084059Z
LAST-MODIFIED:20240624T121201Z
UID:4770-1720425600-1720976400@ibs.ac.id
SUMMARY:INTERNATIONAL IBS SPORT ANNUAL CHAMPIONSHIP (IISAC) 2024
DESCRIPTION:IISAC 2024 Registration (External) \n📢✨BEM STIE IBS Proudly Present✨📢 \n🔆IISAC 2024🔆 \n‼️We Are Finally Open For Registration‼️ \n⚽FUTSAL⚽\n📆 REGISTRATION\n(5 April th – 20 June th 2024) \n(SMA SEDERAJAT)\n📍Lapangan STIE Indonesia Banking School\n💸 Rp 350.000/Team + WO Rp 50.000 \n🏀MEN’S / WOMEN’S BASKETBALL🏀\n📆 REGISTRATION\n( April 5th – June 20th 2024) \n(SMA SEDERAJAT)\n📍Lapangan STIE Indonesia Banking School\n💸 Rp 400.000/Team + WO Rp 50.000 \n🧕🏼SAMAN🧕🏼\n📆 REGISTRATION\n( April 5th – June 20th 2024) \n(SMA SEDERAJAT)\n📍Auditorium STIE Indonesia Banking School\n💸 Rp 300.000/team + WO Rp 50.000 \n💃🏻TRADITIONAL DANCE💃🏻\n📆 REGISTRATION:\n( April 5th – June 20th 2024) \n(GENERAL PUBLIC)\n📍Video Format : MP4\n💸 IDR250.000 or SGD21.21 /Group \n🎮 E-SPORT🎮\n📆 REGISTRATION:\n( April 5th – June 20th 2024) \nMOBILE LEGEND (GENERAL PUBLIC)\n📍ONLINE (International Participants\, Outside Jakarta)\n📍STIE Indonesia Banking School (Jakarta)\n💸 IDR 75.000 /Group (Indonesia)\n💸 IDR150.000 or SGD 12.71 /Group (International Participants) \nhttps://linktr.ee/iisac2024 \nContact Person:\n087886671714 (Nada)\n089678168041 (Catur) \nBe the team that manages to get out of the darkness🌔\n❗Register your team now❗ \nPayment: 001847994383 a.n Meilya Nurhikmah ( Blu by BCA )
URL:https://ibs.ac.id/event/intenational-ibs-sport-annual-championship-iisac-2024/
CATEGORIES:Event Mahasiswa
ATTACH;FMTTYPE=image/png:https://ibs.ac.id/wp-content/uploads/2024/06/POSTER-IISAC-2024-EXTERNAL.png
END:VEVENT
BEGIN:VEVENT
DTSTART;VALUE=DATE:20240629
DTEND;VALUE=DATE:20240630
DTSTAMP:20260422T100154
CREATED:20240619T082111Z
LAST-MODIFIED:20240621T085105Z
UID:4761-1719619200-1719705599@ibs.ac.id
SUMMARY:INTERNATIONAL YOUTH ACCOUNTING FORUM 2024
DESCRIPTION:[OPEN REGISTRATION INTERNATIONAL YOUTH ACCOUNTING FORUM 2024] \nIBS Accounting Student Association Proudly Presents \n✨INTERNATIONAL YOUTH ACCOUNTING FORUM ✨ \nYouth Accounting serves as a dynamic platform where accounting students worldwide engage in ongoing discussions about their roles and contributions within the diverse field of accounting. This event is open to students globally and welcomes anyone interested in gaining insights into international accounting practices. This event come with theme ” Diversity In The World Of Accounting” \nRegister now and stand a chance to win exciting prizes! \n🏆 Prizes:\n🥇 1st best presenter: $45 + E-Certificate\n🥈 2nd best presenter: $35 + E-Certificate\n🥉 3rd best presenter: $20 + E-Certificate\n🏅 Favorite country representative \nIn addition to these rewards\, Youth Accounting will feature distinguished speakers\, including representatives from the Indonesian Accountants Association\, promising an engaging and insightful experience. \n🗓 Registration Timeline:\nMay 20 – June 27\, 2024 \n📌 Registration Link:\nhttps://bit.ly/YouthAccountingRegistration \n📌 Guidebook Link:\nhttps://bit.ly/BookletInternationalYouthAccountingForum \n===================\n☎ Contact Person:\nWhatsApp: 0858-9428-0293 (Qia)\nLine: ntasyaadwr46 (Natasya)\nEmail: hima.akuntansi@ibs.ac.id \n===================\nStay tuned to our social media channels for updates: \nInstagram: @himaakun_ibs\, @youthaccounting\nLine: bjs5584u\nTwitter: himaa_ibs\n===================\nAccounting Student Association\nTerm 2023/2024\n#creativityinharmony
URL:https://ibs.ac.id/event/youth-accounting-2024/
CATEGORIES:Event Mahasiswa
ATTACH;FMTTYPE=image/png:https://ibs.ac.id/wp-content/uploads/2024/06/Poster-youth-accounting-2024.png
END:VEVENT
END:VCALENDAR