BEGIN:VCALENDAR
VERSION:2.0
PRODID:-//Indonesia Banking School - ECPv6.15.17.1//NONSGML v1.0//EN
CALSCALE:GREGORIAN
METHOD:PUBLISH
X-WR-CALNAME:Indonesia Banking School
X-ORIGINAL-URL:https://ibs.ac.id
X-WR-CALDESC:Events for Indonesia Banking School
REFRESH-INTERVAL;VALUE=DURATION:PT1H
X-Robots-Tag:noindex
X-PUBLISHED-TTL:PT1H
BEGIN:VTIMEZONE
TZID:UTC
BEGIN:STANDARD
TZOFFSETFROM:+0000
TZOFFSETTO:+0000
TZNAME:UTC
DTSTART:20240101T000000
END:STANDARD
END:VTIMEZONE
BEGIN:VEVENT
DTSTART;TZID=UTC:20250603T180000
DTEND;TZID=UTC:20250603T213000
DTSTAMP:20260421T052939
CREATED:20250603T074941Z
LAST-MODIFIED:20250603T074941Z
UID:5983-1748973600-1748986200@ibs.ac.id
SUMMARY:World Environment Day 2025
DESCRIPTION:🌍 World Environment Day 2025Mari bersama kita #BeatPlasticPollution! ♻️Ikuti dialog inspiratif tentang kontribusi komunitas berbasis iman dalam mengatasi polusi plastik global. \n📣 Narasumber spesial:Dr. Ir. Hayu Prabowo\, M.Hum.🗣️ Akan membahas peran nilai iman dan budaya dalam mendorong konsumsi berkelanjutan serta pelestarian lingkungan. \n📅 Selasa\, 3 Juni 2025🕡 18.30 – 20.00 WIB📍 Virtual Event via Microsoft Teams🔗 Daftar sekarang: https://bit.ly/unepfaith4earth \nAcara diselenggarakan oleh Faith for Earth Coalition UNEP bersama Interfaith Working Group on Pollution. \n#Faith4Earth #WorldEnvironmentDay #HayuPrabowo #UNEP #LingkunganHidup #StopPolusiPlastik #SustainableFaith #BeatPlasticPollution
URL:https://ibs.ac.id/event/world-environment-day-2025/
CATEGORIES:International Office
ATTACH;FMTTYPE=image/jpeg:https://ibs.ac.id/wp-content/uploads/2025/06/undp.jpg
END:VEVENT
END:VCALENDAR