BEGIN:VCALENDAR
VERSION:2.0
PRODID:-//Indonesia Banking School - ECPv6.15.17.1//NONSGML v1.0//EN
CALSCALE:GREGORIAN
METHOD:PUBLISH
X-WR-CALNAME:Indonesia Banking School
X-ORIGINAL-URL:https://ibs.ac.id
X-WR-CALDESC:Events for Indonesia Banking School
REFRESH-INTERVAL;VALUE=DURATION:PT1H
X-Robots-Tag:noindex
X-PUBLISHED-TTL:PT1H
BEGIN:VTIMEZONE
TZID:UTC
BEGIN:STANDARD
TZOFFSETFROM:+0000
TZOFFSETTO:+0000
TZNAME:UTC
DTSTART:20230101T000000
END:STANDARD
END:VTIMEZONE
BEGIN:VEVENT
DTSTART;TZID=UTC:20240301T080000
DTEND;TZID=UTC:20240301T110000
DTSTAMP:20260421T191813
CREATED:20240227T025226Z
LAST-MODIFIED:20240229T025452Z
UID:4072-1709280000-1709290800@ibs.ac.id
SUMMARY:KULIAH UMUM “SMART INVESTING IN CAPITAL MARKET”
DESCRIPTION:KULIAH UMUM “SMART INVESTING IN CAPITAL MARKET” \nHallo Civitas Akademik IBS! \nSTIE Indonesia Banking School Program Studi Manajemen akan mengadakan Kuliah Umum dengan tema “Smart Investing in Capital Market” \n👤 Pembicara: Alibasyarah Putra Bhayangkara (Head Of Branch Jakarta 2 PT Mandiri Sekuritas)\nTopic: ” Smart investing in Capital Market dan Financial Wellnes” \n🎤 Moderator: Keggy Kanzena Komering\n(Officer Retail Funding and Solution) \nAkan dilaksanakan pada :\n🗓️ : 1 Maret 2024\n🕘 : 08.00 s/d 11.00\n📍 : Auditorium Lantai 2\, Kampus Indonesia Banking School \n📌 Terbuka bagi seluruh Civitas Akademik STIE Indonesia Banking School \n📌 WAJIB bagi seluruh Mahasiswa/i IBS:\n1. Mahasiswa yang mengambil mata kuliah Pasar Modal dan Manajemen Investasi\n2. Mahasiswa yang mengambil mata kuliah Manajemen Investasi\n3. Mahasiswa yang mengambil mata kuliah Personal Finance \n📌 Mahasiswa/i IBS WAJIB mendaftar via Link di Bawah ini: https://bit.ly/RegistrasiKulum2024 \nDiharapkan kehadirannya bagi seluruh Civitas Akademik STIE Indonesia Banking School \nHimpunan Mahasiswa Manajemen\nPeriode 2023/2024 \n👤 Contact Person:\nZhafira (087889149522) \n#MeraihKesuksesan
URL:https://ibs.ac.id/event/kuliah-umum-smart-investing-in-capital-market/
LOCATION:Auditorium IBS\, Lantai 2\, Indonesia
CATEGORIES:Kuliah Umum
ATTACH;FMTTYPE=image/jpeg:https://ibs.ac.id/wp-content/uploads/2024/02/WhatsApp-Image-2024-02-27-at-16.34.11.jpeg
END:VEVENT
BEGIN:VEVENT
DTSTART;TZID=UTC:20240322T100000
DTEND;TZID=UTC:20240322T233000
DTSTAMP:20260421T191813
CREATED:20240320T054026Z
LAST-MODIFIED:20240321T060952Z
UID:4236-1711101600-1711150200@ibs.ac.id
SUMMARY:Kuliah Dosen Tamu Design Thinking "Creative Design Thinking & Market Research Insights"
DESCRIPTION:Halo Sobat IBS! \nHere we come with new event from Kuliah Dosen Tamu! \nMata kuliah untuk Kuliah Dosen Tamu kali ini adalah Design Thinking\, Jadi ini wajib banget buat Sobat IBS yang mengikuti matkul ini untuk berpartisipasi yaah\, Acaranya akan dilaksanakan pada : \n🗓️ : Jumat\, 22 Maret 2024\n⏰ : 10.00 – 11.20 WIB\n🔗 : https://bit.ly/KuliahDosenTamu22032024 \nPada kesempatan yang baik ini\, yang akan menjadi pembicara adalah Bapak Bhayu R. Arsyad selaku Sea Market Research and Analytics Division Manager dengan tema yang akan dibawakan beliau yaitu “Creative Design Thinking & Market Research Insights” which is super relate sama mata kuliahnya dan akan mendapat insight serta ilmu baru dari pakar atau praktisi terkait \nJangan sampai salah yaa Sobat IBS\, acara ini akan dilaksanakan secara daring atau virtual sehingga make sure you guys click the link above yaah! \nSee you theree~
URL:https://ibs.ac.id/event/kuliah-dosen-tamu-design-thinking-creative-design-thinking-market-research-insights/
CATEGORIES:Kuliah Dosen Tamu
ATTACH;FMTTYPE=image/jpeg:https://ibs.ac.id/wp-content/uploads/2024/03/WhatsApp-Image-2024-03-21-at-12.46.32.jpeg
END:VEVENT
END:VCALENDAR