BEGIN:VCALENDAR
VERSION:2.0
PRODID:-//Indonesia Banking School - ECPv6.15.17.1//NONSGML v1.0//EN
CALSCALE:GREGORIAN
METHOD:PUBLISH
X-WR-CALNAME:Indonesia Banking School
X-ORIGINAL-URL:https://ibs.ac.id
X-WR-CALDESC:Events for Indonesia Banking School
REFRESH-INTERVAL;VALUE=DURATION:PT1H
X-Robots-Tag:noindex
X-PUBLISHED-TTL:PT1H
BEGIN:VTIMEZONE
TZID:UTC
BEGIN:STANDARD
TZOFFSETFROM:+0000
TZOFFSETTO:+0000
TZNAME:UTC
DTSTART:20230101T000000
END:STANDARD
END:VTIMEZONE
BEGIN:VEVENT
DTSTART;TZID=UTC:20240517T090000
DTEND;TZID=UTC:20240517T110000
DTSTAMP:20260421T163639
CREATED:20240508T071728Z
LAST-MODIFIED:20240515T075229Z
UID:4422-1715936400-1715943600@ibs.ac.id
SUMMARY:Kuliah Umum "Challenge and Opportunity Dalam Membangun Ekosistem Digital Banking"
DESCRIPTION:Haloo Sobat IBS!\nIndonesia Banking School (IBS) back with their Prominent people who will joining us on our event Kuliah Umum Hybrid🙌🏻\nMari menjelajahi ranah digital dengan ikut Kuliah Umum kali ini yang bertemakan “Challenge and Opportunity Dalam Membangun Ekosistem Digital Banking” dengan pembicara Bapak Arwin Rasyid\, SE.\, MA.\, MBA yang juga merupakan Pendiri Tez Capital & Finance\, President Commisioner PT Leading Vision Otomotif\, Citra Rasa Arora\, PT Sarana Gadai Prioritas dengan moderator salah satu Dosen terbaik Prodi Akuntansi yaitu Ibu Vidiyanna Rizal Putri\, SE.\, M.Si\, Ph.D\nAcara ini akan dilaksanakan pada : \n🗓️ Jumat\, 17 Mei 2024\n🕘 09:00 – 11:00 WIB\n📍Amphitheater 4.05\, Lt 4 \nJangan lupaa juga untuk Sobat IBS yang hendak mengikutinya via Online bisa klik di link berikut ini\n> http://bit.ly/EkosistemDigitalIBS\nDapatkan wawasan untuk menghadapi tantangan dan memanfaatkan peluang di tengah lanskap keuangan digital yang berkembang pesat. Jangan lewatkan kesempatan ini untuk tetap unggul di era digital! Mark the date in your calendar and make sure to join us in this captivating event Sobat IBS! See yaaa✨
URL:https://ibs.ac.id/event/kuliah-umum-challenge-and-opportunity-dalam-membangun-ekosistem-digital-banking/
LOCATION:Amphitheater 4.05
CATEGORIES:Kuliah Umum
ATTACH;FMTTYPE=image/jpeg:https://ibs.ac.id/wp-content/uploads/2024/05/Poster-Kulum-Jumat-170524.jpeg
END:VEVENT
END:VCALENDAR