BEGIN:VCALENDAR
VERSION:2.0
PRODID:-//Indonesia Banking School - ECPv6.15.17.1//NONSGML v1.0//EN
CALSCALE:GREGORIAN
METHOD:PUBLISH
X-WR-CALNAME:Indonesia Banking School
X-ORIGINAL-URL:https://ibs.ac.id
X-WR-CALDESC:Events for Indonesia Banking School
REFRESH-INTERVAL;VALUE=DURATION:PT1H
X-Robots-Tag:noindex
X-PUBLISHED-TTL:PT1H
BEGIN:VTIMEZONE
TZID:UTC
BEGIN:STANDARD
TZOFFSETFROM:+0000
TZOFFSETTO:+0000
TZNAME:UTC
DTSTART:20230101T000000
END:STANDARD
END:VTIMEZONE
BEGIN:VEVENT
DTSTART;TZID=UTC:20241203T090000
DTEND;TZID=UTC:20241203T110000
DTSTAMP:20260421T072803
CREATED:20241202T061210Z
LAST-MODIFIED:20241209T061537Z
UID:5576-1733216400-1733223600@ibs.ac.id
SUMMARY:Literasi Inklusi Keuangan di Sektor Emas Batangan
DESCRIPTION:Hadir kembali Kuliah Dosen Tamu dengan tema: “Literasi Inklusi Keuangan di Sektor Emas Batangan” bekerjasama dengan Pegadaian\, yang akan dilaksanakan secara offline pada: \n📆 Selasa\, 03 Desember 2024\n⏰ Pukul 09.00 – Selesai\n📍 Amphiteatre Kampus IBS Lt.4 \nKuliah dosen tamu ini akan menghadirkan Ibu Yoshika Mackmur selaku Assistant Manager 2 Pegadaian Cabang Radio Dalam sebagai narasumber dan akan dimoderatori oleh Ibu Ossi Ferli\, ST.\, SE.\, MSM\, Dosen tetap sekaligus Kepala Prodi Manajemen IBS.
URL:https://ibs.ac.id/event/literasi-inklusi-keuangan-di-sektor-emas-batangan/
CATEGORIES:Kuliah Dosen Tamu
ATTACH;FMTTYPE=image/jpeg:https://ibs.ac.id/wp-content/uploads/2024/12/Pegadaian-IBS.jpeg
END:VEVENT
BEGIN:VEVENT
DTSTART;TZID=UTC:20241210T093000
DTEND;TZID=UTC:20241210T093000
DTSTAMP:20260421T072803
CREATED:20241209T055631Z
LAST-MODIFIED:20241209T063424Z
UID:5572-1733823000-1733823000@ibs.ac.id
SUMMARY:Transformasi Digital Lembaga Jasa Keuangan (LJK): Tantangan Cybersecurity Menuju Indonesia Emas 2045
DESCRIPTION:*“Transformasi Digital Lembaga Jasa Keuangan (LJK): Tantangan Cybersecurity Menuju Indonesia Emas 2045”* \nKuliah Dosen Tamu Program Studi Manajemen mata kuliah Hukum Bisnis & Jasa Keuangan\, Big data dan Data Science. \n🌟 Indonesia Banking School bekerja sama dengan Hijra Bank mengadakan seminar dosen tamu yang membahas tantangan dan peluang transformasi digital di sektor keuangan. \n📌 Highlight Seminar: \n✅ Dr. Roberto Akyuwen (Kepala Kantor OJK Reg. 1 Wil. Jabodetabek dan Banten) \n✅ Dima Djani\, M.B.A. (Komisaris Hijra Bank) \n✅ Moderator: Dr. Ir. Hayu Prabowo\, M.Hum. (Dosen tetap IBS). \n📅 Kuliah Dosen Tamu Program Studi Manajemen \n🔍 Mata Kuliah: Hukum Bisnis & Jasa Keuangan\, Big Data\, dan Data Science \n📆 Tanggal: 10 Desember 2024 \n⏰ Waktu: 09.30 – 12.00 WIB \n📍 Tempat: Auditorium Lt. 2\, Kampus IBS \n💬 Seminar ini menekankan pentingnya sinergi antara regulator\, pelaku industri\, dan akademisi untuk menciptakan ekosistem digital yang aman\, inovatif\, dan berdaya saing. \n🌟 IBS bangga menjadi bagian dari perjalanan menuju Indonesia Emas 2045\, mempersiapkan generasi muda yang kompeten di bidang keuangan dan teknologi digital. \n#DosenTamuIBS #Cybersecurity #TransformasiDigital #IndonesiaEmas2045 #DigitalFinance #IndonesiaBankingSchool
URL:https://ibs.ac.id/event/transformasi-digital-lembaga-jasa-keuangan-ljk-tantangan-cybersecurity-menuju-indonesia-emas-2045/
LOCATION:Auditorium IBS\, Lantai 2\, Indonesia
CATEGORIES:Education,Kuliah Dosen Tamu
ATTACH;FMTTYPE=image/jpeg:https://ibs.ac.id/wp-content/uploads/2024/12/OJK-Hijra-IBS.jpeg
END:VEVENT
BEGIN:VEVENT
DTSTART;TZID=UTC:20241231T120000
DTEND;TZID=UTC:20241231T150000
DTSTAMP:20260421T072803
CREATED:20241229T084320Z
LAST-MODIFIED:20250106T040218Z
UID:5610-1735646400-1735657200@ibs.ac.id
SUMMARY:The Rise of Digital Banking Industry: Transaction & Economic Risks
DESCRIPTION:Join Us for an Exciting International Guest Lecture! \nTopic: The Rise of Digital Banking Industry: Transaction & Economic Risks\nSpeaker: Dr. Ir. Batara Maju Simatupang\, MT.\, MPhil.\, CIMBA.\, CAPF\n(Senior Lecturer\, STIE Indonesia Banking School\, Indonesia) \n📅 Date: Sunday\, 29 December 2024\n⏰ Time: 12:00 PM – 2:00 PM Malaysian Time (11:00 AM – 1:00 PM WIB)\n📍 Platform: Cisco Webex \n🧑‍💻 Meeting Number: 2513 325 9544\n🔑 Password: FIN542 \nDon’t miss this opportunity to deepen your knowledge about the digital banking revolution and its economic implications!
URL:https://ibs.ac.id/event/the-rise-of-digital-banking-industry-transaction-economic-risks/
CATEGORIES:Kuliah Dosen Tamu,Kuliah Umum,Webinar
ATTACH;FMTTYPE=image/jpeg:https://ibs.ac.id/wp-content/uploads/2025/01/International-Guest-Lecture.jpeg
END:VEVENT
END:VCALENDAR