BEGIN:VCALENDAR
VERSION:2.0
PRODID:-//Indonesia Banking School - ECPv6.15.17.1//NONSGML v1.0//EN
CALSCALE:GREGORIAN
METHOD:PUBLISH
X-WR-CALNAME:Indonesia Banking School
X-ORIGINAL-URL:https://ibs.ac.id
X-WR-CALDESC:Events for Indonesia Banking School
REFRESH-INTERVAL;VALUE=DURATION:PT1H
X-Robots-Tag:noindex
X-PUBLISHED-TTL:PT1H
BEGIN:VTIMEZONE
TZID:UTC
BEGIN:STANDARD
TZOFFSETFROM:+0000
TZOFFSETTO:+0000
TZNAME:UTC
DTSTART:20240101T000000
END:STANDARD
END:VTIMEZONE
BEGIN:VEVENT
DTSTART;TZID=UTC:20250522T131000
DTEND;TZID=UTC:20250522T153000
DTSTAMP:20260421T000721
CREATED:20250521T051011Z
LAST-MODIFIED:20250521T051011Z
UID:5934-1747919400-1747927800@ibs.ac.id
SUMMARY:Kuliah Dosen Tamu – Manajemen Bisnis Industri Halal & Manajemen ZISWAF 🎯 Tema: “Peran Mahasiswa dalam Menggerakkan dan Mempercepat Industri Halal & Sektor Keuangan Sosial Syariah”
DESCRIPTION:🕌✨ Kuliah Dosen Tamu – Manajemen Bisnis Industri Halal & Manajemen ZISWAF\n🎯 Tema: “Peran Mahasiswa dalam Menggerakkan dan Mempercepat Industri Halal & Sektor Keuangan Sosial Syariah” \nIndonesia memiliki potensi besar dalam industri halal dan sektor keuangan sosial syariah. Tapi\, siapa yang akan mendorong percepatannya? Mahasiswa!\nYuk\, gali peran dan peluang kamu dalam ekosistem ekonomi syariah langsung dari narasumber nasional. \n🎙 Pembicara:\nIr. Putu Rahwidhiyasa\, MBA.\, CIPM\nPlt. Direktur Industri Produk Halal\nKomite Nasional Ekonomi dan Keuangan Syariah (KNEKS) \n🎤 Moderator:\nDr. Sulistyowati\, S.E.\, M.Si.\, CWC\nDosen STIE Indonesia Banking School \n📆 Kamis\, 22 Mei 2025\n⏰ Pukul 13.10 – 15.30 WIB\n💻 Tempat: Zoom Meeting\n🆔 Meeting ID: 932 9186 2964\n🔐 Passcode: 174499 \n📚 Mari jadi bagian dari perubahan ekonomi syariah Indonesia yang inklusif dan berkelanjutan. \n#KuliahTamuIBS #IndustriHalal #ZISWAF #EkonomiSyariah #KNEKS #IBSSyariah #KampusMerdeka #IBSJakarta #MahasiswaBerperan
URL:https://ibs.ac.id/event/kuliah-dosen-tamu-manajemen-bisnis-industri-halal-manajemen-ziswaf-%f0%9f%8e%af-tema-peran-mahasiswa-dalam-menggerakkan-dan-mempercepat-industri-halal-sektor-keuangan-sosial-sy/
CATEGORIES:Kuliah Dosen Tamu
ATTACH;FMTTYPE=image/png:https://ibs.ac.id/wp-content/uploads/2025/05/Copy-of-kuliah-dosen-tamu-Halal.png
END:VEVENT
BEGIN:VEVENT
DTSTART;TZID=UTC:20250522T150000
DTEND;TZID=UTC:20250522T170000
DTSTAMP:20260421T000721
CREATED:20250519T071229Z
LAST-MODIFIED:20250520T085231Z
UID:5917-1747926000-1747933200@ibs.ac.id
SUMMARY:Kuliah Dosen Tamu Manajemen Pendanaan dan Treasury. Mengenal Transaksi Nilai Tukar Tunai dan Derivatives Bank dalam meminimalkan Risiko Pasar di Era Trump 2.0
DESCRIPTION:📊 Kuliah Dosen Tamu – \n\nManajemen Pendanaan & Treasury\nPersonal Finance\n📌 Tema: Mengenal Transaksi Nilai Tukar Tunai dan Derivatif Bank dalam Meminimalkan Risiko Pasar di Era Trump 2.0\n\nDi tengah dinamika global yang terus berubah\, pemahaman tentang strategi lindung nilai (hedging) menjadi semakin penting.\nIndonesia Banking School mengundang kamu untuk menggali wawasan praktis langsung dari pelaku industri perbankan dalam kuliah dosen tamu ini. \n🎙 Pembicara:\nMochammad Hasmi\nTreasury Sales Dept Head – PT Bank Mega\, Tbk\n(Alumni IBS) \n📅 Kamis\, 22 Mei 2025\n🕒 15.00 – 17.00 WIB\n📍 Auditorium IBS Lt. 2 \n💬 Bahas langsung isu nilai tukar\, derivatif\, dan strategi menghadapi volatilitas pasar di tengah isu geopolitik global seperti “Trump 2.0”. \nJangan lewatkan kesempatan ini untuk belajar langsung dari profesional perbankan! \n#KuliahTamuIBS #TreasuryTalk #ManajemenPendanaan #Derivatif #IBSJakarta #AlumniIBS #BankingInsights #KampusMerdeka #IBSNetworking
URL:https://ibs.ac.id/event/kuliah-dosen-tamu-manajemen-pendanaan-dan-treasury-mengenal-transaksi-nilai-tukar-tunai-dan-derivatives-bank-dalam-meminimalkan-risiko-pasar-di-era-trump-2-0/
LOCATION:IBS Corner
CATEGORIES:Kuliah Dosen Tamu
ATTACH;FMTTYPE=image/png:https://ibs.ac.id/wp-content/uploads/2025/05/Copy-of-kuliah-dosen-tamu-2.png
END:VEVENT
BEGIN:VEVENT
DTSTART;TZID=UTC:20250523T090000
DTEND;TZID=UTC:20250523T113000
DTSTAMP:20260421T000721
CREATED:20250519T091302Z
LAST-MODIFIED:20250519T091302Z
UID:5926-1747990800-1747999800@ibs.ac.id
SUMMARY:Kuliah Dosen Tamu – Akuntansi Keuangan Menengah. “Full Disclosure: Concept and Practice”
DESCRIPTION:📘 Kuliah Dosen Tamu – Akuntansi Keuangan Menengah\n📝 Tema: “Full Disclosure: Concept and Practice” \nApa arti keterbukaan informasi dalam dunia akuntansi keuangan modern? Bagaimana praktik “full disclosure” diterapkan secara nyata dalam laporan keuangan perusahaan terbuka? \nYuk\, gali lebih dalam bersama para ahli dan praktisi! \n🎙 Pembicara:\nFebrianlika\, S.Ak\, A-CPA\, M.H\, CertSF\, CMA\nSpecialist Accounting – PT ABM Investama Tbk\n(Alumni Prodi Akuntansi IBS) \n🎤 Moderator:\nAssoc. Prof. Dr. Sparta\, SE.\, Ak.\, ME.\, CA\nDosen Tetap STIE IBS \n📅 Jumat\, 23 Mei 2025\n🕘 09.00 – 11.30 WIB\n📍 IBS Corner \n📣 Wajib diikuti oleh kamu yang ingin memahami pentingnya transparansi\, regulasi\, dan akuntabilitas dalam pelaporan keuangan! \n#KuliahTamuIBS #FullDisclosure
URL:https://ibs.ac.id/event/kuliah-dosen-tamu-akuntansi-keuangan-menengah-full-disclosure-concept-and-practice/
LOCATION:IBS Corner
CATEGORIES:Kuliah Dosen Tamu
ATTACH;FMTTYPE=image/png:https://ibs.ac.id/wp-content/uploads/2025/05/akuntansi-kuliah-dosen-tamu-1.png
END:VEVENT
BEGIN:VEVENT
DTSTART;TZID=UTC:20250527T083000
DTEND;TZID=UTC:20250527T103000
DTSTAMP:20260421T000721
CREATED:20250519T070956Z
LAST-MODIFIED:20250519T091534Z
UID:5914-1748334600-1748341800@ibs.ac.id
SUMMARY:Kuliah Dosen Tamu Manajemen Perpajakan. Valuasi Aset Tetap: Implementasi\, Tantangan dan Implikasi Perpajakannya
DESCRIPTION:📢 Kuliah Dosen Tamu – Manajemen Perpajakan\n📚 Tema: Valuasi Aset Tetap: Implementasi\, Tantangan\, dan Implikasi Perpajakannya \nIndonesia Banking School kembali menghadirkan alumni inspiratif dalam kuliah dosen tamu yang membahas bagaimana melakukan valuasi aset tetap sekaligus mengkaji dampaknya pada aspek perpajakan. \n🎙 Pembicara:\nGilang Adiwijaya Budi Santoso\, S.E.\, M.Ec.Dev.\, MAPPI (Cert)\n— Alumni Prodi Akuntansi IBS Angkatan 2005 \n🎤 Moderator:\nVidiyanna Rizal Putri\, S.E.\, M.Si.\, Ph.D\n— Dosen Prodi Akuntansi IBS \n📅 Selasa\, 27 Mei 2025\n🕣 08.30 – 10.30 WIB\n📍 Auditorium Lantai 2\, IBS \nJangan lewatkan kesempatan untuk memperluas wawasan dan berdiskusi langsung bersama praktisi dan akademisi perpajakan! \n#KuliahTamuIBS #ValuasiAset #ManajemenPerpajakan #IBSAkuntansi #AlumniIBS #IBSJakarta #TaxManagement #KampusMerdeka #IBSEvent
URL:https://ibs.ac.id/event/kuliah-dosen-tamu-manajemen-perpajakan-valuasi-aset-tetap-implementasi-tantangan-dan-implikasi-perpajakannya/
LOCATION:Auditorium IBS\, Lantai 2\, Indonesia
CATEGORIES:Kuliah Dosen Tamu
ATTACH;FMTTYPE=image/png:https://ibs.ac.id/wp-content/uploads/2025/05/kuliah-dosen-tamu-perpajakan-5.png
END:VEVENT
BEGIN:VEVENT
DTSTART;TZID=UTC:20250529T080000
DTEND;TZID=UTC:20250529T170000
DTSTAMP:20260421T000721
CREATED:20250528T040801Z
LAST-MODIFIED:20250528T040801Z
UID:5963-1748505600-1748538000@ibs.ac.id
SUMMARY:INTERNATIONAL GUEST LECTURE "Beyond Profit: Ethical Financial System for a Sustainable Future"
DESCRIPTION:🌍 INTERNATIONAL GUEST LECTURE\n📚 “Beyond Profit: Ethical Financial System for a Sustainable Future”\n⠀\nDi tengah krisis iklim dan ketimpangan global\, sistem keuangan berbasis etika menjadi kunci untuk membangun masa depan yang berkelanjutan.\n⠀\n💡 Yuk ikuti kuliah tamu bersama:\n👨‍🏫 Dr. Ir. Hayu Susilo Prabowo\, M.Hum\nDirector of International Office – Indonesia Banking School\n⠀\n📅 Kamis\, 29 Mei 2025\n🕑 Pukul 14.00 – 16.00 WIB\n📍 Online via Google Meet\n⠀\n🔗 Join di sini: https://bit.ly/glibsuitm\n⠀\nDiselenggarakan oleh:\nFaculty of Business Management – UiTM Cawangan Johor Kampus Segamat bekerjasama dengan Indonesia Banking School 🇲🇾🇮🇩\n⠀\n📢 Terbuka untuk umum. Jangan lewatkan insight berharga tentang bagaimana sistem keuangan bisa mendorong keberlanjutan\, bukan hanya keuntungan!\n⠀\n#GuestLecture #EthicalFinance #SustainableFuture #UiTM #IndonesiaBankingSchool #BusinessEthics #InternationalCollaboration #FinanceForGood
URL:https://ibs.ac.id/event/international-guest-lecture-beyond-profit-ethical-financial-system-for-a-sustainable-future/
CATEGORIES:Kuliah Dosen Tamu,Kuliah Umum
ATTACH;FMTTYPE=image/jpeg:https://ibs.ac.id/wp-content/uploads/2025/05/GLC.jpeg
END:VEVENT
END:VCALENDAR