BEGIN:VCALENDAR
VERSION:2.0
PRODID:-//Indonesia Banking School - ECPv6.15.17.1//NONSGML v1.0//EN
CALSCALE:GREGORIAN
METHOD:PUBLISH
X-ORIGINAL-URL:https://ibs.ac.id
X-WR-CALDESC:Events for Indonesia Banking School
REFRESH-INTERVAL;VALUE=DURATION:PT1H
X-Robots-Tag:noindex
X-PUBLISHED-TTL:PT1H
BEGIN:VTIMEZONE
TZID:UTC
BEGIN:STANDARD
TZOFFSETFROM:+0000
TZOFFSETTO:+0000
TZNAME:UTC
DTSTART:20230101T000000
END:STANDARD
END:VTIMEZONE
BEGIN:VEVENT
DTSTART;VALUE=DATE:20240602
DTEND;VALUE=DATE:20240603
DTSTAMP:20260421T164130
CREATED:20240510T033030Z
LAST-MODIFIED:20240513T033403Z
UID:4416-1717286400-1717372799@ibs.ac.id
SUMMARY:Seminar Interaktif "Aset Kripto\, Memang Boleh?"
DESCRIPTION:Diselenggarakan oleh Aswaaquna Consulting bekerjasama dengan IBS dan HIMA Syariah IBS\, seminar interaktif dengan tema “Aset Kripto\, Memang Boleh?” ini\, diharapkan akan memberikan panduan sikap kepada kita sebagai seorang profesional Muslim dalam hal bertransaksi dan berkecimpung di dunia Cryptoasset\, Blockchain\, dan Web3. \nBersama\,\nUstadz Abdurrahman Zahier\, BBA.\nUstadz Devin Halim Wijaya\, BBA.\, CSAA. \nModerator:\nDea Saka Kurnia Putra\nFounder of Blockchain Founders Club \n🗓️ Minggu\, 02 Juni 2024\n🕘 09:00 – 15:00 WIB\n📍Auditorium Indonesia Banking School\, Mampang\, Jakarta Selatan \nLimited seat\, daftar sekarang!\n> s.id/AsetKripto < \nUntuk Informasi hubungi:\n+62 812-8375-865 \nInstagram: @aswaaquna\nLinkedIn: Aswaaquna Consulting\nWebsite: aswaaquna.com
URL:https://ibs.ac.id/event/seminar-interaktif-aset-kripto-memang-boleh/
LOCATION:Auditorium IBS\, Lantai 2\, Indonesia
CATEGORIES:Kuliah Umum
ATTACH;FMTTYPE=image/jpeg:https://ibs.ac.id/wp-content/uploads/2024/05/WhatsApp-Image-2024-05-11-at-21.52.49.jpeg
END:VEVENT
END:VCALENDAR