BEGIN:VCALENDAR
VERSION:2.0
PRODID:-//Indonesia Banking School - ECPv6.15.17.1//NONSGML v1.0//EN
CALSCALE:GREGORIAN
METHOD:PUBLISH
X-WR-CALNAME:Indonesia Banking School
X-ORIGINAL-URL:https://ibs.ac.id
X-WR-CALDESC:Events for Indonesia Banking School
REFRESH-INTERVAL;VALUE=DURATION:PT1H
X-Robots-Tag:noindex
X-PUBLISHED-TTL:PT1H
BEGIN:VTIMEZONE
TZID:UTC
BEGIN:STANDARD
TZOFFSETFROM:+0000
TZOFFSETTO:+0000
TZNAME:UTC
DTSTART:20230101T000000
END:STANDARD
END:VTIMEZONE
BEGIN:VEVENT
DTSTART;TZID=UTC:20240810T133000
DTEND;TZID=UTC:20240810T150000
DTSTAMP:20260421T135555
CREATED:20240808T035724Z
LAST-MODIFIED:20240819T043505Z
UID:5237-1723296600-1723302000@ibs.ac.id
SUMMARY:International Guest Lecture "Debt and Economic Growth"
DESCRIPTION:Hello IBS Friends 👋! \n📢📢📢 We are excited to announce that there will be an International Guest Lecture with a very interesting theme.👐 \n✨”Debt and Economic Growth”✨ \nJoin us for the International Guest Lecture featuring Prof. Ts. Dr. Shafinar Binti Ismail as the speaker and Dr. Sulistyowati\, SE.\, M.Si as the moderator. With extensive experience and expertise in economics and finance\, the speaker will provide in-depth insights into the impact of debt on a country’s economic dynamics.🏦 \nThe International Guest Lecture will be held on: \n🗓️ Date: Saturday\, August 10\, 2024\n⏰ Time: 13:30 – 15:00 WIB\n🏫 Venue: Amphitheater\, 4th Floor\, STIE Indonesia Banking School Campus (Offline) \n✨Register for the International Guest Lecture 2024 through the link below:\nhttps://bit.ly/RegistInternationalGuestLecture \n📌 Note: Offline attendance is MANDATORY for STIE Indonesia Banking School students of the 2021 batch from the following departments:\n– Management\n– Accounting\n– MKPS\n📌 Free E-certificate for thesis defense registration requirements \n📢📢 Register now and gain valuable knowledge from this International Guest Lecture!
URL:https://ibs.ac.id/event/international-guest-lecture-debt-and-economic-growth/
LOCATION:Amphitheater 4.05
CATEGORIES:Kuliah Dosen Tamu
ATTACH;FMTTYPE=image/jpeg:https://ibs.ac.id/wp-content/uploads/2024/08/Poster.jpeg
END:VEVENT
END:VCALENDAR