BEGIN:VCALENDAR
VERSION:2.0
PRODID:-//Indonesia Banking School - ECPv6.15.17.1//NONSGML v1.0//EN
CALSCALE:GREGORIAN
METHOD:PUBLISH
X-WR-CALNAME:Indonesia Banking School
X-ORIGINAL-URL:https://ibs.ac.id
X-WR-CALDESC:Events for Indonesia Banking School
REFRESH-INTERVAL;VALUE=DURATION:PT1H
X-Robots-Tag:noindex
X-PUBLISHED-TTL:PT1H
BEGIN:VTIMEZONE
TZID:UTC
BEGIN:STANDARD
TZOFFSETFROM:+0000
TZOFFSETTO:+0000
TZNAME:UTC
DTSTART:20230101T000000
END:STANDARD
END:VTIMEZONE
BEGIN:VEVENT
DTSTART;TZID=UTC:20241004T083000
DTEND;TZID=UTC:20241004T233000
DTSTAMP:20260421T111218
CREATED:20240928T031944Z
LAST-MODIFIED:20240930T081836Z
UID:5392-1728030600-1728084600@ibs.ac.id
SUMMARY:Kuliah Umum IBS X BSI "Ekonomi Syariah dalam Rencana Pembangunan Nasional 2025-2045: Outlook Perbankan Syariah"
DESCRIPTION:Halo Sobat IBS 📢✨ \nIndonesia Banking School kembali menyelenggarakan Kuliah Umum bertajuk “Ekonomi Syariah dalam Rencana Pembangunan Nasional 2025-2045: Outlook Perbankan Syariah” yang akan diadakan : \n🗓️ Jumat\, 4 Oktober 2024\n⏰ Pukul 08.30 – 11.30 WIB\n📍 Auditorium IBS \,Lantai 2\n🔗 bit.ly/IBSSyariahOutlook \nKuliah ini akan menghadirkan Bapak Ir. Adiwarman Azwar Karim\, SE.\, MBA.\, MAEP yang merupakan Wakil Komisaris Utama Bank Syariah Indonesia dengan moderator dosen tetap IBS Manajemen Keuangan dan Perbankan Syariah (MKPS) Bapak Zulfison\, S.Ag.\, MA. Kuliah umum ini akan membahas peran ekonomi syariah dalam mendukung pembangunan nasional dalam kurun waktu 20 tahun ke depan\, terutama dari perspektif perbankan syariah. Pastikan kamu jadi bagian dari diskusi tentang masa depan ekonomi syariah Indonesia! \nIkuti terus media sosial kami untuk informasi lebih lanjut.\nInstagram : @kampusibs\nWebsite : ibs.ac.id\nSee you there!
URL:https://ibs.ac.id/event/kuliah-umum-ibs-x-bsi-ekonomi-syariah-dalam-rencana-pembangunan-nasional-2025-2045-outlook-perbankan-syariah/
LOCATION:Auditorium IBS\, Lantai 2\, Indonesia
CATEGORIES:Kuliah Umum
ATTACH;FMTTYPE=image/jpeg:https://ibs.ac.id/wp-content/uploads/2024/09/Poster-Kulum-MKPS-04102024-1.jpeg
END:VEVENT
END:VCALENDAR