BEGIN:VCALENDAR
VERSION:2.0
PRODID:-//Indonesia Banking School - ECPv6.15.17.1//NONSGML v1.0//EN
CALSCALE:GREGORIAN
METHOD:PUBLISH
X-WR-CALNAME:Indonesia Banking School
X-ORIGINAL-URL:https://ibs.ac.id
X-WR-CALDESC:Events for Indonesia Banking School
REFRESH-INTERVAL;VALUE=DURATION:PT1H
X-Robots-Tag:noindex
X-PUBLISHED-TTL:PT1H
BEGIN:VTIMEZONE
TZID:UTC
BEGIN:STANDARD
TZOFFSETFROM:+0000
TZOFFSETTO:+0000
TZNAME:UTC
DTSTART:20230101T000000
END:STANDARD
END:VTIMEZONE
BEGIN:VEVENT
DTSTART;TZID=UTC:20241007T133000
DTEND;TZID=UTC:20241007T150000
DTSTAMP:20260421T111230
CREATED:20241005T023747Z
LAST-MODIFIED:20241007T025222Z
UID:5415-1728307800-1728313200@ibs.ac.id
SUMMARY:Tax Planning 101: Kupas Tuntas Strategi Pajak Bareng Praktisi dari Big Four di Kuliah Dosen Tamu Perpajakan
DESCRIPTION:📢 Prodi Akuntansi IBS Hadirkan Kuliah Dosen Tamu Perpajakan!📢 \nHalo Mahasiswa Akuntansi! Mau belajar langsung dari praktisi pajak yang sudah berpengalaman? Yuk\, ikuti Kuliah Dosen Tamu mata kuliah Perpajakan dengan tema “Optimalisasi Perencanaan Pajak Penghasilan Badan”\, acara akan dilaksanakan pada : \n📅 Senin\, 7 Oktober 2024\n⏰ 13.30 – 15.00 WIB\n🏛 Auditorium Lt. 2\, IBS \nAcara ini akan menghadirkan Kak Rizky Aditya\, S.Ak\, alumni Akuntansi IBS angkatan 2013\, yang kini berkarier sebagai Tax Manager di salah satu Big Four Accounting Firms. Beliau akan membagikan insights dan pengalaman praktis terkait strategi perencanaan pajak bagi perusahaan. Tentunya ini kesempatan emas buat kamu yang ingin memperdalam ilmu pajak langsung dari ahlinya! \nDipandu oleh moderator Ibu Vidiyanna Rizal Putri\, SE.\, M.Si.\, Ph.D\, dosen Akuntansi IBS\, sesi ini bakal penuh dengan pengetahuan berharga dan diskusi menarik. Jadi\, jangan sampai ketinggalan ya! ✨ \nSee you there! 👋😃
URL:https://ibs.ac.id/event/tax-planning-101-kupas-tuntas-strategi-pajak-bareng-praktisi-dari-big-four/
LOCATION:Auditorium IBS\, Lantai 2\, Indonesia
CATEGORIES:Alumni,Kuliah Dosen Tamu
ATTACH;FMTTYPE=image/jpeg:https://ibs.ac.id/wp-content/uploads/2024/10/Poster-Kuliah-Dosen-Tamu-Pajak-07102024.jpeg
END:VEVENT
END:VCALENDAR