BEGIN:VCALENDAR
VERSION:2.0
PRODID:-//Indonesia Banking School - ECPv6.15.17.1//NONSGML v1.0//EN
CALSCALE:GREGORIAN
METHOD:PUBLISH
X-ORIGINAL-URL:https://ibs.ac.id
X-WR-CALDESC:Events for Indonesia Banking School
REFRESH-INTERVAL;VALUE=DURATION:PT1H
X-Robots-Tag:noindex
X-PUBLISHED-TTL:PT1H
BEGIN:VTIMEZONE
TZID:UTC
BEGIN:STANDARD
TZOFFSETFROM:+0000
TZOFFSETTO:+0000
TZNAME:UTC
DTSTART:20230101T000000
END:STANDARD
END:VTIMEZONE
BEGIN:VEVENT
DTSTART;TZID=UTC:20241010T103000
DTEND;TZID=UTC:20241010T123000
DTSTAMP:20260421T112259
CREATED:20241008T104405Z
LAST-MODIFIED:20241010T104726Z
UID:5457-1728556200-1728563400@ibs.ac.id
SUMMARY:Kuliah Dosen Tamu MKPS\, Jelajahi Inovasi Pembiayaan Syariah: Temukan Solusi Terbaik Bersama Ahlinya!
DESCRIPTION:Program Studi Manajemen Keuangan & Perbankan Syariah (MKPS) Indonesia Banking School mempersembahkan Kuliah Dosen Tamu Mata Kuliah Produk Keuangan Syariah dan Manajemen Keuangan Syariah dengan tema “Produk Perusahaan Pembiayaan Syariah” \n📅 Sabtu\, 12 Oktober 2024\n🕙 Pukul: 10.30 – 12.30 WIB\n🏛️ Lokasi: Indonesia Banking School\n🔗 Pendaftaran: bit.ly/KuliahDosenTamu12Okt2024 \nPembicara:\nHendra Kurniawan\, S.Sos.\, MM\n(Konsultan Perbankan & Asuransi Syariah) \nModerator:\nPuspita\, SE.\, M.Si\n(Dosen Tetap STIE Indonesia Banking School) \nDapatkan wawasan mendalam mengenai produk pembiayaan syariah dalam kesempatan ini. Acara ini terbuka untuk mahasiswa dan umum\, jangan lewatkan peluang untuk memperkaya pengetahuan di bidang keuangan syariah!
URL:https://ibs.ac.id/event/kuliah-dosen-tamu-mkps-jelajahi-inovasi-pembiayaan-syariah-temukan-solusi-terbaik-bersama-ahlinya/
CATEGORIES:Kuliah Dosen Tamu
ATTACH;FMTTYPE=image/jpeg:https://ibs.ac.id/wp-content/uploads/2024/10/Poster-Kuliah-Dosen-Tamu-Syariah-12-Okt-2024.jpeg
END:VEVENT
END:VCALENDAR