BEGIN:VCALENDAR
VERSION:2.0
PRODID:-//Indonesia Banking School - ECPv6.15.17.1//NONSGML v1.0//EN
CALSCALE:GREGORIAN
METHOD:PUBLISH
X-ORIGINAL-URL:https://ibs.ac.id
X-WR-CALDESC:Events for Indonesia Banking School
REFRESH-INTERVAL;VALUE=DURATION:PT1H
X-Robots-Tag:noindex
X-PUBLISHED-TTL:PT1H
BEGIN:VTIMEZONE
TZID:UTC
BEGIN:STANDARD
TZOFFSETFROM:+0000
TZOFFSETTO:+0000
TZNAME:UTC
DTSTART:20230101T000000
END:STANDARD
END:VTIMEZONE
BEGIN:VEVENT
DTSTART;TZID=UTC:20241030T090000
DTEND;TZID=UTC:20241030T110000
DTSTAMP:20260421T100800
CREATED:20241028T012507Z
LAST-MODIFIED:20241030T013549Z
UID:5484-1730278800-1730286000@ibs.ac.id
SUMMARY:Menavigasi Dunia Digital dalam Kewirausahaan Syariah: Peluang dan Tantangan Terkini
DESCRIPTION:Halo Sobat IBS✨ \nKesempatan untuk kembali belajar terkait strategi bisnis syariah di era digital di Kuliah Dosen Tamu yang diselenggarakan oleh Prodi Manajemen Keuangan & Perbankan Syariah (MKPS) dengan tema “Islamic Entrepreneurship Digital-based Strategy: Current Opportunities and Challenges”\, Acara ini akan dilaksanakan pada : \n📆 Rabu\, 30 Oktober 2024\n⏰ 09.00 – 11.00 WIB\n📍 Amphitheater 405 \nDengan pembicara Bapak Rizal Kamaruzzaman sebagai pembicara utama\, seorang Co-Founder GoBarakah\, Executive Director di Tindakan Strategi dan Executive Stretgy di WZWF. Kuliah dosen tamu ini juga akan dimoderatori oleh Ibu Dr. Sulistyowati\, SE.\, M. Si\, dosen tetap MKPS IBS. Tentunya acara ini bertujuan memberikan wawasan baru terkait perkembangan kewirausahaan berbasis syariah bagi para mahasiswa! \nPastikan kamu ikut jadi bagian dari diskusi inspiratif ini! Jangan sampai ketinggalan! 🌟
URL:https://ibs.ac.id/event/menavigasi-dunia-digital-dalam-kewirausahaan-syariah-peluang-dan-tantangan-terkini/
CATEGORIES:Kuliah Dosen Tamu
ATTACH;FMTTYPE=image/jpeg:https://ibs.ac.id/wp-content/uploads/2024/10/Poster-Kuliah-Dosen-Tamu-MKPS-30-Okt-2024.jpeg
END:VEVENT
END:VCALENDAR