BEGIN:VCALENDAR
VERSION:2.0
PRODID:-//Indonesia Banking School - ECPv6.15.17.1//NONSGML v1.0//EN
CALSCALE:GREGORIAN
METHOD:PUBLISH
X-ORIGINAL-URL:https://ibs.ac.id
X-WR-CALDESC:Events for Indonesia Banking School
REFRESH-INTERVAL;VALUE=DURATION:PT1H
X-Robots-Tag:noindex
X-PUBLISHED-TTL:PT1H
BEGIN:VTIMEZONE
TZID:UTC
BEGIN:STANDARD
TZOFFSETFROM:+0000
TZOFFSETTO:+0000
TZNAME:UTC
DTSTART:20230101T000000
END:STANDARD
END:VTIMEZONE
BEGIN:VEVENT
DTSTART;TZID=UTC:20241115T090000
DTEND;TZID=UTC:20241115T110000
DTSTAMP:20260421T100021
CREATED:20241114T041317Z
LAST-MODIFIED:20241115T043958Z
UID:5530-1731661200-1731668400@ibs.ac.id
SUMMARY:Managing Production Cost: Cost Planning\, Allocation\, and Reporting
DESCRIPTION:Prodi Akuntansi Indonesia Banking School menyelenggarakan Kuliah Dosen Tamu dengan tema “Managing Production Cost: Cost Planning\, Allocation\, and Reporting” yang akan dilaksanakan secara offline pada : \n📆 Jumat\, 15 November 2024\n⏰ 09.00 – 11.00 WIB\n📍 Auditorium IBS \nTerdapat 3 Pembicara yang semuanya dari PT Toyota Boshoku Indonesia divisi Cost Planning yaitu Bapak Theo Raranta\,M.M (Departement Head)\, Bapak Drs. Asep Yudi (Advisor)\, dan Bapak Moch. Ikbal\, S.T. (Staff)\, Kuliah dosen tamu ini juga akan dimoderatori oleh Ibu Dr. Nova Novita\, S.E.\, M.S.Ak selaku dosen tetap sekaligus Kepala Prodi Akuntansi IBS
URL:https://ibs.ac.id/event/managing-production-cost-cost-planning-allocation-and-reporting/
CATEGORIES:Kuliah Dosen Tamu,Kuliah Umum
ATTACH;FMTTYPE=image/jpeg:https://ibs.ac.id/wp-content/uploads/2024/11/Dosen-Tamu-Akun.jpeg
END:VEVENT
END:VCALENDAR