BEGIN:VCALENDAR
VERSION:2.0
PRODID:-//Indonesia Banking School - ECPv6.15.17.1//NONSGML v1.0//EN
CALSCALE:GREGORIAN
METHOD:PUBLISH
X-ORIGINAL-URL:https://ibs.ac.id
X-WR-CALDESC:Events for Indonesia Banking School
REFRESH-INTERVAL;VALUE=DURATION:PT1H
X-Robots-Tag:noindex
X-PUBLISHED-TTL:PT1H
BEGIN:VTIMEZONE
TZID:UTC
BEGIN:STANDARD
TZOFFSETFROM:+0000
TZOFFSETTO:+0000
TZNAME:UTC
DTSTART:20240101T000000
END:STANDARD
END:VTIMEZONE
BEGIN:VEVENT
DTSTART;TZID=UTC:20251105T080000
DTEND;TZID=UTC:20251105T170000
DTSTAMP:20260421T181648
CREATED:20251105T020848Z
LAST-MODIFIED:20251105T020848Z
UID:6702-1762329600-1762362000@ibs.ac.id
SUMMARY:Layanan Keuangan di Era Disrupsi:Strategi dan Inovasi Menuju 2026
DESCRIPTION:Kuliah Dosen Tamu Mata Kuliah\nIntroduction Financial Service Sector dan Treasury ALMA Syariah \n“Layanan Keuangan di Era Disrupsi:Strategi dan Inovasi Menuju 2026” \n📆 Hari\, tanggal : Rabu\, 5 November 2025\n⏰ Waktu : Pukul 10.00 – 12.00 WIB\n🏫 Tempat : Auditorium Lt.2\, STIE IBS \nPembicara: Kurniawati Arie\, SE.\, MM\nAlumni Magister Manajemen IBS\nManager Treasury Operation\nPT. Bank Negara Indonesia Tbk \nModerator:\nDr. Nuri Wulandari\nDosen STIE Indonesia Banking School \nTerima kasih
URL:https://ibs.ac.id/event/layanan-keuangan-di-era-disrupsistrategi-dan-inovasi-menuju-2026/
CATEGORIES:Education,Kuliah Umum
ATTACH;FMTTYPE=image/jpeg:https://ibs.ac.id/wp-content/uploads/2025/11/IBS-BNI.jpeg
END:VEVENT
BEGIN:VEVENT
DTSTART;TZID=UTC:20251105T080000
DTEND;TZID=UTC:20251105T170000
DTSTAMP:20260421T181648
CREATED:20251105T020942Z
LAST-MODIFIED:20251105T020942Z
UID:6707-1762329600-1762362000@ibs.ac.id
SUMMARY:Analisis Laporan Keuangan "Profitabilitas Analysis"
DESCRIPTION:Kuliah Dosen Tamu Mata Kuliah \nAnalisis Laporan Keuangan \n“Profitabilitas Analysis” \n📆 Hari\, tanggal : Rabu\, 5 November 2025\n⏰ Waktu : Pukul 13.00 – 15.00 WIB\n🏫 Tempat : Ruang 2.07\, lt 2 \nPembicara: Andri Iwasakhi Parasian\, MAppSc\nAlumni S1 IBS\nCommissioner PT. Bandar Indah Permata \nModerator:\nNova Novita\, SE.\, M.S.Ak\nDosen STIE Indonesia Banking School \nTerima kasih
URL:https://ibs.ac.id/event/analisis-laporan-keuangan-profitabilitas-analysis/
CATEGORIES:Education,Kuliah Dosen Tamu
ATTACH;FMTTYPE=image/jpeg:https://ibs.ac.id/wp-content/uploads/2025/11/IBS-Dosentamu.jpeg
END:VEVENT
BEGIN:VEVENT
DTSTART;TZID=UTC:20260421T093000
DTEND;TZID=UTC:20260421T123000
DTSTAMP:20260421T181648
CREATED:20260420T093045Z
LAST-MODIFIED:20260420T093045Z
UID:6938-1776763800-1776774600@ibs.ac.id
SUMMARY:Islamic Trade Financing
DESCRIPTION:Kuliah Dosen Tamu Mata Kuliah\nKegiatan Operasional Bank Syariah\, Pembiayaan Bank Syariah\, dan Perbankan Internasional \n“Islamic Trade Financing” \n📆 Hari\, tanggal : Selasa\, 21 April 2026\n⏰ Waktu : Pukul 09.40 – 12.10 WIB\n🏫 Tempat : Amphiteater 4.04\, STIE IBS \nPembicara:\nImam Sujanu Tutuka\, SE.\, MM.\nTreasury & Reconciliations Department Head\nBank Syariah Indonesia \nModerator:\nPuspita\, SE.\, M.Si\nDosen Pengampu Mata Kuliah
URL:https://ibs.ac.id/event/islamic-trade-financing/
CATEGORIES:Education,Kuliah Dosen Tamu
ATTACH;FMTTYPE=image/png:https://ibs.ac.id/wp-content/uploads/2026/04/Islamic-Trade-Financing-4.png
END:VEVENT
BEGIN:VEVENT
DTSTART;TZID=UTC:20260423T093000
DTEND;TZID=UTC:20260423T123000
DTSTAMP:20260421T181648
CREATED:20260420T093428Z
LAST-MODIFIED:20260420T093428Z
UID:6941-1776936600-1776947400@ibs.ac.id
SUMMARY:Jaminan Produk Halal sebagai Hak Asasi
DESCRIPTION:Kuliah Dosen Tamu Mata Kuliah\nManajemen Bisnis Industri Halal \n“Jaminan Produk Halal sebagai Hak Asasi” \n📆 Hari\, tanggal : Kamis\, 23 April 2026\n⏰ Waktu : Pukul 09.50 – 12.00 WIB\n🏫 Tempat : Amphiteater Lt. 4\, Kampus IBS (Hybrid)\nLink Zoom:\nhttps://bit.ly/IBSJaminanProdukHalal\nID Rapat: 413 818 2512\nKode Sandi: 610352 \nPembicara:\nDr. K.H. Masyhuril Khamis\, S.H.\, M.M.\n– Ketua Majelis Ulama Indonesia Bidang Halal\n– Ketua Umum NGO Al Washliyah Indonesia\n– Komisioner Badan Wakaf lndonesia \nModerator:\nDr. Sulistyowati\, SE.\, M.Si.\, CWC\n– Dosen Pengampu Mata Kuliah\n– Komisioner Badan Wakaf lndonesia
URL:https://ibs.ac.id/event/jaminan-produk-halal-sebagai-hak-asasi/
CATEGORIES:Education,Kuliah Dosen Tamu
ATTACH;FMTTYPE=image/png:https://ibs.ac.id/wp-content/uploads/2026/04/Jaminan-Produk-Halal.png
END:VEVENT
END:VCALENDAR