BEGIN:VCALENDAR
VERSION:2.0
PRODID:-//Indonesia Banking School - ECPv6.15.17.1//NONSGML v1.0//EN
CALSCALE:GREGORIAN
METHOD:PUBLISH
X-WR-CALNAME:Indonesia Banking School
X-ORIGINAL-URL:https://ibs.ac.id
X-WR-CALDESC:Events for Indonesia Banking School
REFRESH-INTERVAL;VALUE=DURATION:PT1H
X-Robots-Tag:noindex
X-PUBLISHED-TTL:PT1H
BEGIN:VTIMEZONE
TZID:UTC
BEGIN:STANDARD
TZOFFSETFROM:+0000
TZOFFSETTO:+0000
TZNAME:UTC
DTSTART:20200101T000000
END:STANDARD
END:VTIMEZONE
BEGIN:VEVENT
DTSTART;TZID=UTC:20211218T080000
DTEND;TZID=UTC:20211218T170000
DTSTAMP:20260423T111154
CREATED:20211221T090300Z
LAST-MODIFIED:20240621T090446Z
UID:4784-1639814400-1639846800@ibs.ac.id
SUMMARY:IBS Career Week
DESCRIPTION:“Find Your Passion to Get a Great Opportunity”\nIBS Career Week (ICW) bertema “Find Your Passion to Get a Great Opportunity” diselenggarakan oleh BEM IBS periode 2021/2022 pada 21 Mei 2022 via Zoom. Acara dimulai pukul 10.15 WIB dengan pembukaan ruang Zoom pada pukul 10.00 WIB. Sambutan pertama disampaikan oleh Ketua Pelaksana\, Nuri Annisa Sholihah\, pukul 10.30 WIB\, diikuti sambutan dari Wakil Presiden Mahasiswa\, Reply Yoga Maulana\, menggantikan Presiden Mahasiswa. Ketua STIE Indonesia Banking\, Ibu Dr. Kusumaningtuti Sandriharmy Soetiono\, memberikan sambutan pada pukul 10.40 WIB\, lalu dilanjutkan dengan pemaparan materi oleh Rizky Adithiya. Sesi tanya jawab dimulai pukul 11.30 WIB\, diakhiri dengan penyerahan sertifikat kepada pemateri.
URL:https://ibs.ac.id/event/ibs-career-week/
CATEGORIES:Alumni
ATTACH;FMTTYPE=image/png:https://ibs.ac.id/wp-content/uploads/2024/06/Screenshot-2024-06-20-170412.png
END:VEVENT
END:VCALENDAR