BEGIN:VCALENDAR
VERSION:2.0
PRODID:-//Indonesia Banking School - ECPv6.15.17.1//NONSGML v1.0//EN
CALSCALE:GREGORIAN
METHOD:PUBLISH
X-ORIGINAL-URL:https://ibs.ac.id
X-WR-CALDESC:Events for Indonesia Banking School
REFRESH-INTERVAL;VALUE=DURATION:PT1H
X-Robots-Tag:noindex
X-PUBLISHED-TTL:PT1H
BEGIN:VTIMEZONE
TZID:UTC
BEGIN:STANDARD
TZOFFSETFROM:+0000
TZOFFSETTO:+0000
TZNAME:UTC
DTSTART:20220101T000000
END:STANDARD
END:VTIMEZONE
BEGIN:VEVENT
DTSTART;TZID=UTC:20230609T083000
DTEND;TZID=UTC:20230609T110000
DTSTAMP:20260424T141210
CREATED:20230608T071328Z
LAST-MODIFIED:20230608T082502Z
UID:2862-1686299400-1686308400@ibs.ac.id
SUMMARY:Technology Digital Series: Edukasi Literasi Keuangan - Fintech = Banking 5.0
DESCRIPTION:Halo\, Sobat IBS👋🏻🙌🏻 \nSTIE Indonesia Banking School pada kesempatan kali ini bekerja sama dengan Bank Sampoerna dalam penyelenggaraan Kuliah Umum yang memiliki tema : \n“Technology Digital Series: Edukasi Literasi Keuangan – Fintech = Banking 5.0” \nDengan pembicara hebat yang juga ahli dalam bidangnya yaitu Bapak Henky Suryaputra selalu Director of Finance and Business Planning PT Bank Sahabat Sampoerna dan Kuliah Umum kali ini yang akan menjadi moderator adalah Dosen Tetap dari STIE IBS yaitu Bapak\nEdi Komara\, SE.\, MSi \n📌Mark Your Calendar📌\n🗓️ : Jumat\, 9 Juni 2023\n⏰ : 08.30-11.00 WIB\n🏢 : Auditorium Kampus IBS Lantai 2 \nTerbuka untuk seluruh mahasiswa program studi:\nMagister Manajemen\, Manajemen\, Akuntansi & Manajemen Perbankan Syariah. Acara ini Bersertifikat yang bisa digunakan sebagai syarat mengikuti sidang skripsi. \nFREE MAKAN SIANG DAN SOUVENIR BAGI PESERTA (TERBATAS) \nBerikut link untuk konfirmasi kehadiran: https://bit.ly/KulumIBSXBankSampoerna \nSee you there\, Sobat IBS!\nJangan sampai ketinggalan yaa✨
URL:https://ibs.ac.id/event/technology-digital-series-edukasi-literasi-keuangan-fintech-banking-5-0/
CATEGORIES:Kuliah Umum
ATTACH;FMTTYPE=image/jpeg:https://ibs.ac.id/wp-content/uploads/2023/06/WhatsApp-Image-2023-06-07-at-10.05.04.jpeg
END:VEVENT
BEGIN:VEVENT
DTSTART;TZID=UTC:20230613T083000
DTEND;TZID=UTC:20230613T100000
DTSTAMP:20260424T141210
CREATED:20230612T185300Z
LAST-MODIFIED:20230612T185300Z
UID:2891-1686645000-1686650400@ibs.ac.id
SUMMARY:International Guest Lecture From Mindanao State University\, Philippines
DESCRIPTION:Bismillaahirrahmaanirrahiim \nAsaalamualaikum wr wb. \nHaloo Sobat IBS semua\, IBS back with another International Guest Lecture dengan tema  “Global Business\, Banking and Finance” yang kali ini diselenggarakan oleh Prodi Manajemen Keuangan dan Perbankan Syariah IBS. Detail acaranya sebagai berikut : \n🗓️Hari\, Tanggal : Selasa\, 13 Juni 2023\n⏰Pukul : 08.30 – 10.00 WIB\n💻 Tempat : Ruang Amphitheater 405 \nPembicara :\nAssociate Prof. Sahraman D. Hadji Latif\, MS\, ME\n(Dean College of Business Administration and Accountancy\, Mindanao State University\, Marawi City\, Philippines) \nModerator : \nDr. Sulistyowati\,SE.\,M.Si \n(Dosen STIE Indonesia Banking School) \nJangan sampai terlewat yaa kesempatan besar seperti ini\, ilmu yang akan diberikan tentunya bermanfaat dan yang pasti bertaraf internasional nih..Sampai bertemu di Amphiteater lantai 4 Sobat IBS!! \nDemikian informasinya untuk semua Sobat IBS tercinta\, terima kasih yaa!\nWassalamualaikum wr wb. \n  \n 
URL:https://ibs.ac.id/event/international-guest-lecture-from-mindanao-state-university-philippines/
LOCATION:Amphitheater 4.05
ATTACH;FMTTYPE=image/jpeg:https://ibs.ac.id/wp-content/uploads/2023/06/WhatsApp-Image-2023-06-12-at-20.17.12.jpeg
END:VEVENT
BEGIN:VEVENT
DTSTART;VALUE=DATE:20230622
DTEND;VALUE=DATE:20230701
DTSTAMP:20260424T141210
CREATED:20230615T034035Z
LAST-MODIFIED:20230712T084257Z
UID:2980-1687392000-1688169599@ibs.ac.id
SUMMARY:LIFESTYLE BANKING EXHIBITION
DESCRIPTION:Halo\, Sobat IBS👋🏻🙌🏻 \nIndonesia Banking School pada kesempatan kali ini akan mengadakan pameran yang memiliki tema “LIFESTYLE BANKING EXHIBITION”. Nah\, Lifestyle Banking Exhibition merupakan sebuah pameran yang berisi beberapa ide-ide dari mahasiswa tentang bagaimana suatu tempat akan bekerja sama dengan perbankan yang nantinya akan menghasilkan sesuatu yang luar biasa. \nNah\, acara ini akan dilaksanakan pada: \nHari/tanggal: 22 – 30 Juni 2023\nJam : 10.30 – 16.00 WIB\nTempat : Student Lounge IBS \nTerbuka untuk seluruh mahasiswa ibs dan umum. Jangan lupa catat hari dan tanggalnya ya!!\nPastikan juga untuk hadir di acara IBS ini yaa\, See you there✨
URL:https://ibs.ac.id/event/lifestyle-banking-exhibition/
ATTACH;FMTTYPE=image/png:https://ibs.ac.id/wp-content/uploads/2023/07/poster-lifestyle-banking.png
END:VEVENT
END:VCALENDAR