BEGIN:VCALENDAR
VERSION:2.0
PRODID:-//Indonesia Banking School - ECPv6.15.17.1//NONSGML v1.0//EN
CALSCALE:GREGORIAN
METHOD:PUBLISH
X-ORIGINAL-URL:https://ibs.ac.id
X-WR-CALDESC:Events for Indonesia Banking School
REFRESH-INTERVAL;VALUE=DURATION:PT1H
X-Robots-Tag:noindex
X-PUBLISHED-TTL:PT1H
BEGIN:VTIMEZONE
TZID:UTC
BEGIN:STANDARD
TZOFFSETFROM:+0000
TZOFFSETTO:+0000
TZNAME:UTC
DTSTART:20220101T000000
END:STANDARD
END:VTIMEZONE
BEGIN:VEVENT
DTSTART;TZID=UTC:20231207T090000
DTEND;TZID=UTC:20231207T110000
DTSTAMP:20260424T032727
CREATED:20231206T082627Z
LAST-MODIFIED:20231206T082946Z
UID:3484-1701939600-1701946800@ibs.ac.id
SUMMARY:Lecturing On The Net "Management Control System"
DESCRIPTION:Halooo Sobat IBS tercinta!! \nIts our 3rd Lecture on the net! \nAnd now\, IBS bekerja sama dengan Universitas Teknologi Mara (UiTM) Johor\, Malaysia \nLecture On The Net kali ini yang akan menjadi pengajarnya yaitu Bapak Dr. Taufiq Hidayat\, S.E.Ak\, M.BankFin yang akan membawakan topik pembelajaran yaitu Management Control System \nAcara ini akan dilaksanakan pada : \nHari : Kamis\, 7 Desember 2023\nPukul : 09.00 – 11.00\nLink : https://s.id/MCSLoTNIBSUiTM \nMake sure you guys click on the link and have your seat everywhere because its online so dont forget the date yaa!
URL:https://ibs.ac.id/event/lecturing-on-the-net-management-control-system/
ATTACH;FMTTYPE=image/jpeg:https://ibs.ac.id/wp-content/uploads/2023/12/WhatsApp-Image-2023-12-06-at-10.55.57.jpeg
END:VEVENT
BEGIN:VEVENT
DTSTART;TZID=UTC:20231212T150000
DTEND;TZID=UTC:20231212T173000
DTSTAMP:20260424T032727
CREATED:20231212T033736Z
LAST-MODIFIED:20231212T033736Z
UID:3509-1702393200-1702402200@ibs.ac.id
SUMMARY:Kuliah Dosen Tamu Akuntansi dengan Tema "PPN dan e-faktur"
DESCRIPTION:Hai Sobat IBS🙌 \nProgram Studi Akuntansi STIE Indonesia Banking School kembali menyelenggarakan Kuliah Dosen Tamu Online dengan tema “PPN dan e-faktur” yang akan diselenggarakan pada : \n📆 : Selasa\, 12 Desember 2023\n⏰ : Pukul15.00 – 17.30 WIB\n📍 : Https://bit.ly/KUPajakIBS \nDengan pembicara yaitu Bapak Dr. Irwan Wisanggeni\, SE.\, M.Si.\, SH.\, BKP\nyang juga merupakan seorang Konsultan Pajak dan Vidiyanna Rizal Putri\, SE.\, M.Si yaitu Dosen STIE Indonesia Banking School akan menjadi Moderator untuk acara ini \nTerima kasih yaa\, dan untuk Sobat IBS yang mengambil mata kuliah ini maka sudah pasti harus mengikutinya nih! \nSee yaa
URL:https://ibs.ac.id/event/kuliah-dosen-tamu-akuntansi-dengan-tema-ppn-dan-e-faktur/
CATEGORIES:Education
ATTACH;FMTTYPE=image/jpeg:https://ibs.ac.id/wp-content/uploads/2023/12/WhatsApp-Image-2023-12-11-at-16.53.49.jpeg
END:VEVENT
BEGIN:VEVENT
DTSTART;TZID=UTC:20231215T150000
DTEND;TZID=UTC:20231215T170000
DTSTAMP:20260424T032727
CREATED:20231212T103116Z
LAST-MODIFIED:20231212T103116Z
UID:3518-1702652400-1702659600@ibs.ac.id
SUMMARY:𝗦𝗘𝗘𝗗𝗦 𝗖𝗢𝗠𝗠𝗨𝗡𝗜𝗧𝗬 𝗠𝗘𝗘𝗧𝗨𝗣 #𝟯
DESCRIPTION:Hai Sobat IBS🙌🏻 \nSeeds X Indonesia Banking School\nKerjasama kali ini yaituSeeds menyelenggarakan Webinar yaitu ✨ 𝗦𝗘𝗘𝗗𝗦 𝗖𝗢𝗠𝗠𝗨𝗡𝗜𝗧𝗬 𝗠𝗘𝗘𝗧𝗨𝗣 #𝟯 ✨dan akan dilaksanakan secara ONLINE\, dengan tema pembahasan 𝗠𝗮𝗿𝗸𝗲𝘁 𝗮𝗻𝗱 𝗜𝗻𝘃𝗲𝘀𝘁𝗺𝗲𝗻𝘁 𝗢𝘂𝘁𝗹𝗼𝗼𝗸 𝟮𝟬𝟮𝟰 yang pastinya menarik dan bermanfaat. Jadi\, jangan sampai ketinggalan yaa\, Sobat Seeds dan Sobat IBS jugaa! \nAcara ini 𝗚𝗥𝗔𝗧𝗜𝗦 tanpa dipungut biaya apapun dan dapat sertifikat juga lho! Acara ini akan dilaksanakan pada : \n🗓️: Jumat\, 15 Desember 2023\n⏰: 15.00 – 17.00 WIB\n📍: Zoom Meeting \nSobat Seeds bisa segera 𝗿𝗲𝗴𝗶𝘀𝘁𝗿𝗮𝘀𝗶 di sini 👇🏻\n🔗: bit.ly/RSVPSeeds \natau hubungi:\nContact Person 📲\nIqbal 0821-1009-8708\nTiffany 0856-1901-064 \nJangan lupa untuk join Play Tournament Arena 𝗦𝗲𝗲𝗱𝘀 𝗧𝗮𝗹𝗸 𝗝𝘂𝗮𝗿𝗮 𝗖𝗼𝗺𝗽𝗲𝘁𝗶𝘁𝗶𝗼𝗻 yang sedang berlangsung sampai tanggal 15 Desember 2023 dengan invitation code: 𝗦𝗘𝗘𝗗𝗦𝗧𝗔𝗟𝗞. Pengumuman pemenang akan diumumkan saat acara Seeds Community Meetup #3 ini!
URL:https://ibs.ac.id/event/%f0%9d%97%a6%f0%9d%97%98%f0%9d%97%98%f0%9d%97%97%f0%9d%97%a6-%f0%9d%97%96%f0%9d%97%a2%f0%9d%97%a0%f0%9d%97%a0%f0%9d%97%a8%f0%9d%97%a1%f0%9d%97%9c%f0%9d%97%a7%f0%9d%97%ac-%f0%9d%97%a0%f0%9d%97%98/
CATEGORIES:Webinar
ATTACH;FMTTYPE=image/jpeg:https://ibs.ac.id/wp-content/uploads/2023/12/WhatsApp-Image-2023-12-12-at-17.05.50.jpeg
END:VEVENT
BEGIN:VEVENT
DTSTART;VALUE=DATE:20231222
DTEND;VALUE=DATE:20231223
DTSTAMP:20260424T032727
CREATED:20231206T082853Z
LAST-MODIFIED:20231220T024929Z
UID:3486-1703203200-1703289599@ibs.ac.id
SUMMARY:Gebyar Dagang Mahasiswa (GDM) Expo
DESCRIPTION:Belajar fisika teori kuantum\, ini pembuka Assalamualaikum 🙌. \nHallo semuaa\, kami mau infoin nih sebentar lagi akan ada event kuliner terbesar di IBS lhoo\, penasaran gak sihh🤔🤔\, yuk disimak 👇 \nSebagai bentuk praktik tugas akhir mata kuliah Pengantar Bisnis\, kami segenap mahasiswa Manajemen dan Akuntansi IBS menyelenggarakan ‘Gebyar Dagang Mahasiswa (GDM) Expo’pada : \n🗓️ : Jumat\, 15 & 22 Desember 2023\n⏰ : 10.00 s/d selesai.\n📍 : Lobby Indonesia Banking School \nSeberapa seru sih event nya?? acara ini akan dihadiri puluhan stand di setiap tanggal nya lohh!! tidak hanya kulineran\, di expo ini kalian juga bisa belanja berbagai souvenir atau pun barang barang unik lainnya. \nAyo bersama sama kita ramaikan expo kali ini dan dukung kesuksesan acara ini\nDemikian\, \nAyu ting ting makan kepiting\, thank you for everything\,\nWassalamualaikum wr wb.
URL:https://ibs.ac.id/event/gebyar-dagang-mahasiswa-gdm-expo/
ATTACH;FMTTYPE=image/jpeg:https://ibs.ac.id/wp-content/uploads/2023/12/WhatsApp-Image-2023-12-06-at-09.39.31.jpeg
END:VEVENT
BEGIN:VEVENT
DTSTART;TZID=UTC:20231222T100000
DTEND;TZID=UTC:20231222T120000
DTSTAMP:20260424T032727
CREATED:20231219T020743Z
LAST-MODIFIED:20231222T021245Z
UID:3546-1703239200-1703246400@ibs.ac.id
SUMMARY:Pembekalan Invitasi Bank Indonesia Session 1
DESCRIPTION:Halo Sobat IBS 🙌🏻\nTeruntuk kalian yang sebentar lagi akan mengikuti Invitasi Bank Indonesia\, Berikut merupakan pengumuman untuk kalian yaa \nTerkait akan diselenggarakannya Pembekalan Invitasi Bank Indonesia Session 1 pada :\n🗓 : Jumat\, 22 Desember 2023\n⏰ : 10.00 WIB – Selesai\n📍 : Kampus IBS\, Lt. 4\, Ruang 405 \nUntuk Pembicara pada acara ini yaitu Bapak Gatot Sugiono S.\,SE\,MM yang juga merupakan Wakil Ketua II Indonesia Banking School \nSee you Sobat IBS calon peserta pembekalan Invitasi BI✨\nMake sure yourself to get there right on time yaa!
URL:https://ibs.ac.id/event/pembekalan-invitasi-bank-indonesia-session-1/
LOCATION:Amphitheater 4.05
ATTACH;FMTTYPE=image/jpeg:https://ibs.ac.id/wp-content/uploads/2023/12/Poster-Pembekalan-Invitasi-Bank-Indonesia-Dec23-1.jpg
END:VEVENT
BEGIN:VEVENT
DTSTART;TZID=UTC:20231222T130000
DTEND;TZID=UTC:20231222T150000
DTSTAMP:20260424T032727
CREATED:20231220T041809Z
LAST-MODIFIED:20231220T091656Z
UID:3531-1703250000-1703257200@ibs.ac.id
SUMMARY:Kuliah Dosen Tamu Akuntansi Biaya "The Impact of Digitalization (Artificial Intelligence\, Machine Learning\, Big Data) and Sustainable Governance to Cost Accounting"
DESCRIPTION:Hai Sobat IBS🙌 \nProgram Studi Akuntansi STIE Indonesia Banking School kembali menyelenggarakan Kuliah Dosen Tamu Online dengan tema “The Impact of Digitalization (Artificial Intelligence\, Machine Learning\, Big Data) and Sustainable Governance to Cost Accounting” yang akan diselenggarakan pada : \n📆 Hari\, tanggal : Jumat\, 22 Desember 2023\n⏰ Waktu : Pukul 13.10 – 15.00 WIB\n🏫 Tempat : https://bit.ly/KuliahTamuAkbi20231 \nPembicara : Daniel Godwin Sihotang\, CA.\, CMA.\, CIBA.\, CBV\n(Fouder Lean Visi Indonesia and Head of Finance for Region South East Asia\, Australia and New Zealand in Euro Multi National Company) \nModerator: Nova Novita\, SE.\, MS.Ak\n(Dosen STIE Indonesia Banking School) \nAcara ini diutamakan untuk Sobat IBS yang sedang mengampu mata kuliah terkait yaa! \nSee yaaa!
URL:https://ibs.ac.id/event/kuliah-dosen-tamu-akuntansi-biaya-the-impact-of-digitalization-artificial-intelligence-machine-learning-big-data-and-sustainable-governance-to-cost-accounting/
CATEGORIES:Kuliah Dosen Tamu
END:VEVENT
BEGIN:VEVENT
DTSTART;VALUE=DATE:20231223
DTEND;VALUE=DATE:20231224
DTSTAMP:20260424T032727
CREATED:20231212T045553Z
LAST-MODIFIED:20231212T045553Z
UID:3516-1703289600-1703375999@ibs.ac.id
SUMMARY:MoonsonSIM International Trading Competition 2023
DESCRIPTION:Halo Halo Sobat IBS!\nWait Up!It’s Announcement with English\, So Bare with us \nhere✨ \nMonsoonSIM is more than just a business simulation platform. It’s a comprehensive learning tool designed to bridge the gap between theory and practice. You guys basically playing a game but its also business simulator so its fun but yeah you learn a lot especially many things about business \nThis event will be held :\n🗓️ : 23 December 2023\n⏰ : 08.00 AM – end\n📍 : Auditorium\n🔗 : bit.ly/RegistirationMonsoonSIMTradingCompetition (Free) \nRegistration it’s open from now and benefit from participating this event is e-certificate and because its competition there will be winner from this competition for 1st\, 2nd and 3rd! For further information please contact :\n📞 Jafar: +62813-8688-1914\n📞 Saarah : +62895-0152-2061 \nNotes :\n* Maximum Quota : 20 teams\n* Only Team Leader do the Register \nSo\, What are you waiting for?Register your team by now !! See yaaa
URL:https://ibs.ac.id/event/moonsonsim-international-trading-competition-2023/
LOCATION:Auditorium IBS\, Lantai 2\, Indonesia
CATEGORIES:Education
ATTACH;FMTTYPE=image/png:https://ibs.ac.id/wp-content/uploads/2023/12/moonson-sim-competition.png
END:VEVENT
END:VCALENDAR