BEGIN:VCALENDAR
VERSION:2.0
PRODID:-//Indonesia Banking School - ECPv6.15.17.1//NONSGML v1.0//EN
CALSCALE:GREGORIAN
METHOD:PUBLISH
X-WR-CALNAME:Indonesia Banking School
X-ORIGINAL-URL:https://ibs.ac.id
X-WR-CALDESC:Events for Indonesia Banking School
REFRESH-INTERVAL;VALUE=DURATION:PT1H
X-Robots-Tag:noindex
X-PUBLISHED-TTL:PT1H
BEGIN:VTIMEZONE
TZID:UTC
BEGIN:STANDARD
TZOFFSETFROM:+0000
TZOFFSETTO:+0000
TZNAME:UTC
DTSTART:20230101T000000
END:STANDARD
END:VTIMEZONE
BEGIN:VEVENT
DTSTART;TZID=UTC:20240109T080000
DTEND;TZID=UTC:20240109T170000
DTSTAMP:20260424T014855
CREATED:20240101T031640Z
LAST-MODIFIED:20240109T031923Z
UID:3599-1704787200-1704819600@ibs.ac.id
SUMMARY:Kuliah Dosen Tamu Pengauditan I "Strategi Audit dan Program Audit Secara Menyeluruh"
DESCRIPTION:Sobat IBS🙌🏻\nFirst round in 2024 for Kuliah Dosen Tamu!\nMata kuliah untuk Kuliah Dosen Tamu kali ini adalah Pengauditan 1\, Jadi ini wajib banget buat Sobat IBS yang mengikuti matkul ini untuk berpartisipasi yaah\, Acaranya akan dilaksanakan pada : \n🗓️ : Kamis\, 04 Januari 2024\n⏰ : 08.00 – 10.30 WIB\n📍 : Kampus IBS\, Amphitheater 405 \nDosen tamu spesial kali ini adalah Bapak Ivan Kanel\,SE.\,MM.\,Ak.\, BKP.\, CPA.\, CA.\, CPI.\, CPMA.\, CMA.\, ASEAN CPA.\, CTA.\, CBV.\, CACP.\, CAPM.\, CAPF.\, CDMS.\, CERA.\, CPS.\, CIBA.\, CGBA.\, CPRM.\, CRMA.\, CCMA.\, CAMP.\, CPGA.\, CHCM.\, CCBP.\, CSRP.\, CPHRM.\, CGRM.\, CRM.\, CHRM.\, CMIS.\, CIBT.\, CPPM dan yang akan menjadi moderator adalah Dosen STIE Indonesia Banking School yaitu Ibu Dr. Wiwi Idawati S.E.\, M.Si.\,Ak.CA.\, ACPA dengan tema acara yaitu “Strategi Audit dan Program Audit Secara Menyeluruh” \nDitunggu kehadirannya yaa Sobat IBS✨
URL:https://ibs.ac.id/event/kuliah-dosen-tamu-pengauditan-i-strategi-audit-dan-program-audit-secara-menyeluruh/
CATEGORIES:Kuliah Dosen Tamu
ATTACH;FMTTYPE=image/jpeg:https://ibs.ac.id/wp-content/uploads/2024/01/Poster-Kuliah-Dosen-Tamu-Akuntansi.jpeg
END:VEVENT
BEGIN:VEVENT
DTSTART;TZID=UTC:20240118T160000
DTEND;TZID=UTC:20240118T170000
DTSTAMP:20260424T014855
CREATED:20240114T064737Z
LAST-MODIFIED:20240117T065140Z
UID:3611-1705593600-1705597200@ibs.ac.id
SUMMARY:What's Your Choice 2024
DESCRIPTION:“Make Your Dreams And Reality For A Bright Future With Your Best Choice” \nThis Announcement we got from Himpunan Mahasiswa Manajemen Periode 2023/2024 \nHalo teman-teman manajemen! 👋🏻\nWhat’s Your Choice hadir untuk para mahasiswa/i program studi manajemen angkatan 2022 yang masih bingung dalam menentukan konsentrasi program studi manajemen yang akan diambil pada semester 4 nanti hingga seterusnya. \nDengan menghadirkan narasumber Bapak/Ibu dosen dan Mahasiswa/i dari masing-masing konsentrasi program studi Manajemen sebagai pembicara yaitu:\n👤Dr. Ahmad Adriansyah\, S.T.\, M.Si.\n(Dosen Manajemen Kewirausahaan )\n👤Ferenisyah Ardianto\n(Mahasiswi Manajemen pemasaran 2021)\n👤Ajeng Rida Riyanti\n(Mahasiswi Manajemen Keuangan 2021 )\n👤Habibi Mustofa\n(Mahasiswa Manajemen SDM 2021) \nThis event Will be held on:\n🗓️ Kamis\, 18 Januari 2024\n⏰ 16.00 – selesai\n📍Ampli Theater 4.04 \nPendaftaran 🔗:\nhttps://bit.ly/PendaftaranWYC2024 \n❗❗ Notes: WAJIB untuk mahasiswa/i Manajemen yang akan menempuh semester 4 (Manajemen angkatan 2022) ❗❗ \n 
URL:https://ibs.ac.id/event/whats-your-choice-2024/
ATTACH;FMTTYPE=image/jpeg:https://ibs.ac.id/wp-content/uploads/2024/01/WhatsApp-Image-2024-01-17-at-10.41.25-1.jpeg
END:VEVENT
BEGIN:VEVENT
DTSTART;VALUE=DATE:20240122
DTEND;VALUE=DATE:20240123
DTSTAMP:20260424T014855
CREATED:20240117T113530Z
LAST-MODIFIED:20240120T113806Z
UID:3627-1705881600-1705967999@ibs.ac.id
SUMMARY:Kegiatan Edukasi Keuangan OJK
DESCRIPTION:Big Announcement Alert📢📢 \nLet’s goo!!Read it carefuly Sobat IBS \nBig event are coming right away✨✨ \nThis Event named is “KEGIATAN EDUKASI KEUANGAN” \nOtoritas Jasa Keuangan bersama Indonesia Banking School mengadakan Kegiatan edukasi mengenai fungsi OJK\, waspada investasi\, pinjaman online (pinjol) ilegal yang dilanjutkan dengan diskusi panel terkait pengenalan produk/layanan jasa keuangan meliputi produk Tabungan SiMuda dan produk investasi di pasar modal. Kegiatan Edukasi Keuangan Bagi Pelajar Tingkat SMA/Sederajat di Wilayah Jakarta Selatan yang akan diselenggarakan secara Hybrid pada: \n📆 Hari\, Tanggal: Senin\, 22 Januari 2024 \n⏰ Pukul: 08.00 s.d. Selesai \n💻 Zoom: Webinar: https://bit.ly/EduKeuanganPelajarOJK // Passcode: 468817 \n📍 Lokasi: Ruang Auditorium lt.2 Indonesia Banking School  \n(Jl. Kemang Raya no.35 Bangka\, Kec. Mampang Prpt.\, Kota Jakarta Selatan) \nRegistrasi : https://bit.ly/DaftarEduKeuanganPelajarOJK \n🗒️Materi:  \n1. Mengenal OJK\, Waspada Investasi dan Pinjaman Online Ilegal oleh Otoritas Jasa Keuangan \n2. Mengenal Tabungan SiMuda oleh Bank BNI \n3. Mengenal Produk Investasi di Pasar Modal oleh PT BEI \n4. Mengenal Perencanaan Keuangan dan Personal Branding \nDress Code  \nBatik \nOnline : Free  E-Certificate \nOffline : Free Sertifikat\, Makan Siang dan Goodie Bag (500 orang) pertama yang hadir. \nBagi Sobat IBS yang merupakan juga mahasiswa IBS Angkatan 2022 & 2023 wajib hadir secara offline dan tidak lupa untuk konfirmasi kehadiran melalui link berikut : https://forms.gle/fyCpYB9nbumdJzVm6 \nAnd in the end of this announcement\, we would like to thanks to OJK and all participants \nSee You There Sobat IBS🙌🏻 \n— \nFollow media sosial @Sikapiuangmu di Facebook\, Twitter\, dan Instagram dan Instagram @kampusibs @ibs_ambassador  \nKunjungi https://sikapiuangmu.ojk.go.id/ dan https://lmsku.ojk.go.id/ untuk mendapatkan informasi terkait produk dan layanan jasa keuangan
URL:https://ibs.ac.id/event/kegiatan-edukasi-keuangan-ojk/
LOCATION:Auditorium IBS\, Lantai 2\, Indonesia
CATEGORIES:Education
ATTACH;FMTTYPE=image/jpeg:https://ibs.ac.id/wp-content/uploads/2024/01/33087bfd-47e4-476c-a2da-82d441bbdd46.jpeg
END:VEVENT
END:VCALENDAR