BEGIN:VCALENDAR
VERSION:2.0
PRODID:-//Indonesia Banking School - ECPv6.15.17.1//NONSGML v1.0//EN
CALSCALE:GREGORIAN
METHOD:PUBLISH
X-WR-CALNAME:Indonesia Banking School
X-ORIGINAL-URL:https://ibs.ac.id
X-WR-CALDESC:Events for Indonesia Banking School
REFRESH-INTERVAL;VALUE=DURATION:PT1H
X-Robots-Tag:noindex
X-PUBLISHED-TTL:PT1H
BEGIN:VTIMEZONE
TZID:UTC
BEGIN:STANDARD
TZOFFSETFROM:+0000
TZOFFSETTO:+0000
TZNAME:UTC
DTSTART:20230101T000000
END:STANDARD
END:VTIMEZONE
BEGIN:VEVENT
DTSTART;TZID=UTC:20240209T090000
DTEND;TZID=UTC:20240209T110000
DTSTAMP:20260423T235902
CREATED:20240207T033205Z
LAST-MODIFIED:20240207T033205Z
UID:3970-1707469200-1707476400@ibs.ac.id
SUMMARY:An Introduction of Digital Financial Inclusion in Thailand
DESCRIPTION:Dear Respected Lectures and Students\, \nIndonesia Banking School is proudly to present International General Lecture entitled “An Introduction of Digital Financial Inclusion in Thailand”. \nSpeaker: Dr.Ploypailin Kijkasiwat (Pearl) (Assistant Professor in Finance at Faculty of Business Administration\, Khon Kaen Business School\, Thailand) \nOpening Speech: Dr.Kusumaningtuti S. Soetiono (Chairman of Indonesia Banking School) \nModerator: Meta Andriani\, MM (Lecturer in Management Studies Program– Indonesia Banking School) \nThe event will be held on:\nDay/Date : Friday\, 9th February 2024\nTime : 09.00-11.00 AM (Jakarta and Khon Kaen Time)\nPlatform : Hybrid \nKindly join on the link provided below:\nhttps://bit.ly/InternationalGeneralLectureIBS \ne-certificate is provided for IBS Lectures & Students \nFor further information :\nprodimanajemen@ibs.ac.id
URL:https://ibs.ac.id/event/an-introduction-of-digital-financial-inclusion-in-thailand/
LOCATION:Amphitheater 4.05
CATEGORIES:Kuliah Umum,Webinar
ATTACH;FMTTYPE=image/jpeg:https://ibs.ac.id/wp-content/uploads/2024/02/WhatsApp-Image-2024-02-06-at-17.45.00.jpeg
END:VEVENT
BEGIN:VEVENT
DTSTART;TZID=UTC:20240216T130000
DTEND;TZID=UTC:20240216T150000
DTSTAMP:20260423T235902
CREATED:20240213T053809Z
LAST-MODIFIED:20240213T053809Z
UID:3982-1708088400-1708095600@ibs.ac.id
SUMMARY:Webinar "Ekonomi dan Keuangan Perspektif Hindu-Islam (Syariah)"
DESCRIPTION:Indonesia Banking School bekerja sama dengan Universitas Hindu Negeri (UHN) I Gusti Bagus Sugriwa Denpasar untuk Acara Live Webinar yang bertemakan “Ekonomi dan Keuangan Perspektif Hindu-Islam (Syariah)” . Pada kesempatan kali ini yang hadir sebagai pembicara ada Bapak Dr.Ir. Hayu Prabowo\, M.Hum dari IBS dan Bapak Dr. I Nyoman Bontot\, S.TP.\, M.FLI.H dari UHN yang akan dilaksanakan pada : \n🗓️ : Jumat\, 16 Februari 2023\n⏰ : 14.00 WITA & 13.00 WIB\n🔗 : bit.ly/IBSPerspektifekonomi \nBagi Sobat IBS yang mengikuti Acara yang diadakan secara online ini akan mendapatkan e-certificate nantinyaa! Tentunya ilmu yang akan didapat bermanfaat dan mungkin tidak akan didapat dalam kelas perkuliahan sehari-hari\, Dengan mengusung semangat perbedaan tetapi tetap satu kesatuan mari kita bersama-sama simak Live Webinar kita kali ini yaah! \nSee you there Sobat IBS!
URL:https://ibs.ac.id/event/webinar-ekonomi-dan-keuangan-perspektif-hindu-islam-syariah/
CATEGORIES:Webinar
ATTACH;FMTTYPE=image/jpeg:https://ibs.ac.id/wp-content/uploads/2024/02/WhatsApp-Image-2024-02-12-at-17.40.21.jpeg
END:VEVENT
BEGIN:VEVENT
DTSTART;TZID=UTC:20240229T110000
DTEND;TZID=UTC:20240229T130000
DTSTAMP:20260423T235902
CREATED:20240226T024132Z
LAST-MODIFIED:20240229T030116Z
UID:4069-1709204400-1709211600@ibs.ac.id
SUMMARY:Uji Publik untuk Calon Panitia Seleksi (Capansel) Satuan Tugas Pencegahan dan Penanganan Kekerasan Seksual (PPKS)
DESCRIPTION:Indonesia Banking School menyelenggarakan Uji Publik untuk Calon Panitia Seleksi (Capansel) Satuan Tugas Pencegahan dan Penanganan Kekerasan Seksual (PPKS) secara hybrid yang akan dilaksanakan pada : \n🗓️ : Kamis\, 29 Februari 2024\n⏰ : 11.00 WIB\n📍 : Ruang 4.05 Lt.4\n📎 : bit.ly/UjiPublikPPKSIBS \nKegiatan Uji Publik ini diikuti oleh 5 orang Capansel yaitu Ibu Puspita SE\,MSi (Dosen) \, Andhika Febrikusuma\,SE (Tenaga Kependidikan)\, Siska Wulandari\,S.A.P ( Mahasiswa S2) \, Daniella Quinta Anastasia (Mahasiswa S1)\, M. Azkal Azkiya F (Mahasiswa S1) \nDalam rangka memilih tim yang akan bertanggung jawab dalam menindak dan menangani kekerasan seksual di lingkungan kampus IBS\, uji publik ini melibatkan Panelis Eksternal yaitu Ibu Sri Wiyanti Eddyini\,S.H.\,LL.M.(HR)\,ph.D yang juga merupakan Ketua Satgas PPKS UGM dan Panelis Internal Ibu Dr. Kusumaningtuti S.Soetioni S.H.\,LL.M yang juga merupakan Ketua IBS dan Ibu Dr\, Paulina\,S.E.\,M.Si selaku Ketua Panitia Penyelenggara Panse PPKS \nKeseluruhan Acara akan dipandu oleh Hendro Adipramono SE.\,MM \nKeberadaan petugas PPKS di lingkungan Kampus diharapkan dapat mencegah timbulnya perilaku kekerasan yang bisa saja terjadi. Tim yang hendak dibentuk ini akan bertugas untuk menerima dan menindaklanjuti laporan kekerasan seksual\, serta melindungi kerahasiaan identitas korban
URL:https://ibs.ac.id/event/uji-publik-untuk-calon-panitia-seleksi-capansel-satuan-tugas-pencegahan-dan-penanganan-kekerasan-seksual-ppks/
LOCATION:Auditorium IBS\, Lantai 2\, Indonesia
ATTACH;FMTTYPE=image/jpeg:https://ibs.ac.id/wp-content/uploads/2024/02/WhatsApp-Image-2024-02-28-at-16.28.58.jpeg
END:VEVENT
END:VCALENDAR