BEGIN:VCALENDAR
VERSION:2.0
PRODID:-//Indonesia Banking School - ECPv6.15.17.1//NONSGML v1.0//EN
CALSCALE:GREGORIAN
METHOD:PUBLISH
X-WR-CALNAME:Indonesia Banking School
X-ORIGINAL-URL:https://ibs.ac.id
X-WR-CALDESC:Events for Indonesia Banking School
REFRESH-INTERVAL;VALUE=DURATION:PT1H
X-Robots-Tag:noindex
X-PUBLISHED-TTL:PT1H
BEGIN:VTIMEZONE
TZID:UTC
BEGIN:STANDARD
TZOFFSETFROM:+0000
TZOFFSETTO:+0000
TZNAME:UTC
DTSTART:20230101T000000
END:STANDARD
END:VTIMEZONE
BEGIN:VEVENT
DTSTART;TZID=UTC:20240910T090000
DTEND;TZID=UTC:20240910T120000
DTSTAMP:20260423T085708
CREATED:20240815T043056Z
LAST-MODIFIED:20240919T091731Z
UID:5243-1725958800-1725969600@ibs.ac.id
SUMMARY:Online Campus Hiring Development Program Maybank X IBS
DESCRIPTION:Halo\, Talenta Muda IBS! \nSiap untuk level up kariermu? PT Bank Maybank Indonesia Tbk\, salah satu bank swasta terkemuka dan bagian dari Maybank Group yang juga raksasa finansial terbesar di ASEAN lagi buka kesempatan emas buat kamu! 🌟 \nAwalnya dikenal sebagai PT Bank Internasional Indonesia Tbk (BII)\, Maybank Indonesia udah jadi pemain besar di dunia perbankan sejak 1959. Dan sekarang\, mereka ingin kamu jadi bagian dari cerita sukses berikutnya! \nYuk\, gabung di Campus Hiring Development Program ! Acara ini bakal digelar secara online pada tanggal 10 September 2024\, pukul 09.00-12.00 WIB. Ini kesempatan buat kamu yang pengen terjun langsung ke dunia perbankan dan berkembang bareng para profesional terbaik di industri. \nJangan sampai ketinggalan! Daftar dan submit lamaranmu sebelum 5 September 2024. Siapkan diri kamu untuk masa depan yang lebih cerah dan penuh peluang bersama Maybank! 💼✨
URL:https://ibs.ac.id/event/online-campung-hiring-development-program-maybank-x-ibs/
CATEGORIES:Alumni
ATTACH;FMTTYPE=image/png:https://ibs.ac.id/wp-content/uploads/2024/08/CHDP-Maybank-X-IBS.png
END:VEVENT
BEGIN:VEVENT
DTSTART;TZID=UTC:20240912T090000
DTEND;TZID=UTC:20240912T113000
DTSTAMP:20260423T085708
CREATED:20240911T104433Z
LAST-MODIFIED:20240917T035142Z
UID:5305-1726131600-1726140600@ibs.ac.id
SUMMARY:Guest Lecture “Leadership: Membangun Nilai Kepemimpinan yang Memberikan Kontribusi bagi Kinerja Perusahaan\,”
DESCRIPTION:
URL:https://ibs.ac.id/event/guest-lecture-leadership-membangun-nilai-kepemimpinan-yang-memberikan-kontribusi-bagi-kinerja-perusahaan/
CATEGORIES:Kuliah Umum
ATTACH;FMTTYPE=image/jpeg:https://ibs.ac.id/wp-content/uploads/2024/09/GL-PermataBank.jpeg
END:VEVENT
END:VCALENDAR