BEGIN:VCALENDAR
VERSION:2.0
PRODID:-//Indonesia Banking School - ECPv6.15.17.1//NONSGML v1.0//EN
CALSCALE:GREGORIAN
METHOD:PUBLISH
X-ORIGINAL-URL:https://ibs.ac.id
X-WR-CALDESC:Events for Indonesia Banking School
REFRESH-INTERVAL;VALUE=DURATION:PT1H
X-Robots-Tag:noindex
X-PUBLISHED-TTL:PT1H
BEGIN:VTIMEZONE
TZID:UTC
BEGIN:STANDARD
TZOFFSETFROM:+0000
TZOFFSETTO:+0000
TZNAME:UTC
DTSTART:20240101T000000
END:STANDARD
END:VTIMEZONE
BEGIN:VEVENT
DTSTART;TZID=UTC:20250808T080000
DTEND;TZID=UTC:20250809T170000
DTSTAMP:20260422T171623
CREATED:20250807T100845Z
LAST-MODIFIED:20250814T021033Z
UID:6568-1754640000-1754758800@ibs.ac.id
SUMMARY:PKM Pelatihan Kewirausahaan Digital
DESCRIPTION:🌱 Pengabdian Kepada Masyarakat 🌱📅 8 – 9 Agustus 2025📍 Kebun Teh Goalpara\, Sukabumi – Jawa Barat \nDanantara Indonesia bersama Jamkrindo dan Indonesia Banking School mengadakan Pelatihan Kewirausahaan Digital untuk mendukung UMKM naik kelas di era digital. \n💡 Materi yang akan dibahas:✨ Go Digital – Mulai & Kembangkan Bisnis Online✨ Kelola Keuangan Usaha via Platform Digital✨ Etalase Bisnis Digital Syariah \nMari bersama wujudkan UMKM tangguh\, inovatif\, dan siap bersaing di pasar global! 🚀 \n#UMKMLayak #PengabdianMasyarakat #KewirausahaanDigital #GoDigital #Jamkrindo #DanantaraIndonesia #IndonesiaBankingSchool
URL:https://ibs.ac.id/event/pkm-pelatihan-kewirausahaan-digital/
CATEGORIES:Education
ATTACH;FMTTYPE=image/jpeg:https://ibs.ac.id/wp-content/uploads/2025/08/IBS-PKM.jpeg
END:VEVENT
BEGIN:VEVENT
DTSTART;TZID=UTC:20250809T083000
DTEND;TZID=UTC:20250809T170000
DTSTAMP:20260422T171623
CREATED:20250804T050754Z
LAST-MODIFIED:20250806T033713Z
UID:6418-1754728200-1754758800@ibs.ac.id
SUMMARY:SEMINAR & PELANTIKAN PENGURUS IAI
DESCRIPTION:Transformasi Akuntansi Berkelanjutan di Era Digital: Inovasi\, Regulasi\, dan Peran Akuntan dalam Mendukung ESG dan SDGs \n[SEMINAR & PELANTIKAN PENGURUS IAI MUDA JAKARTA GEN 2] \nHalo\, Akuntan Muda! \nPengurus IAI Muda Jakarta menyelenggarakan Seminar dan Pelantikan Pengurus IAI Muda Jakarta Generasi 2 sebagai bentuk komitmen dalam mendukung transformasi profesi akuntansi yang berkelanjutan di era digital. \nAcara ini bertujuan untuk meningkatkan kualitas dan kapabilitas akuntan muda Indonesia dengan menanamkan nilai kompetensi\, kredibilitas\, serta integritas tinggi\, sekaligus meneguhkan pentingnya kepatuhan terhadap regulasi\, kode etik\, dan standar profesi. \nSelain menjadi ajang pelantikan pengurus baru IAI Muda Gen 2\, acara ini juga menghadirkan seminar yang membahas topik kekinian dan strategis dalam dunia akuntansi: \n🎓 TEMA SEMINAR:\nTransformasi Akuntansi Berkelanjutan di Era Digital: Inovasi\, Regulasi\, dan Peran Akuntan dalam Mendukung ESG dan SDGs \nNarasumber:\n👤Dr. Deni Darmawati\, S.E.\, Ak.\, M.Si.\, CA\, CSRS\, CSRA\, CGRCPA\, CPIA\, CIIQA \nSAVE THE DATE:\n📅 Sabtu\, 09 Agustus 2025\n🕘 08.30 WIB – selesai\n👔 Dresscode: Almamater Kampus / PDL HIMA\n📍: Auditorium BPK Perwakilan Provinsi DKI Jakarta\nhttps://maps.app.goo.gl/cFk1gwXq35DVt3yT7 \n💰 HTM:\n▪ Mahasiswa/Umum: Rp15.000\,-\n▪ Anggota Aktif IAI Muda: Free \nBenefit:\n✅ E-Sertifikat Ber-SKP\n✅ Ilmu bermanfaat\n✅ Relasi\n✅ Snack\n✅ Doorprize\n✅ Training kit \nMetode Pembayaran:\n124-00-1414352-4 (MANDIRI A/N IAI Wilayah Jakarta) \n🔗 Link Registrasi:\nhttps://bit.ly/RegistPelantikanIMUDGen2 \nContact Person:\n📞 ‪+62 821 2400 0085‬ (Najwa Fathimah)\n📞 ‪+62 857 1975 7269‬ (Suci) \n🌟 Jangan lewatkan kesempatan ini untuk upgrade ilmu\, memperluas jaringan\, dan menjadi bagian dari transformasi profesi akuntansi masa depan! \n#IAIMUDAJKT\n#IkatanAkuntanIndonesia\n#IntegritasMembangunIndonesia\n➖➖➖➖➖➖➖➖➖➖\nMore information:\nInstagram\, TikTok\, X: @iaimudajkt\nLinkedIn & YouTube: Anggota Muda IAI Wilayah DKI Jakarta\nE-mail: iaimuda.jakarta@akuntanindonesia.or.id\nAnggota Muda IAI Wilayah DKI Jakarta\nSecond – Gen
URL:https://ibs.ac.id/event/transformasi-akuntansi-berkelanjutan-di-era-digital-inovasi-regulasi-dan-peran-akuntan-dalam-mendukung-esg-dan-sdgs/
CATEGORIES:Education,Event Mahasiswa
ATTACH;FMTTYPE=image/png:https://ibs.ac.id/wp-content/uploads/2025/08/Copy-of-Twibbon-21.png
END:VEVENT
BEGIN:VEVENT
DTSTART;TZID=UTC:20250813T080000
DTEND;TZID=UTC:20250813T170000
DTSTAMP:20260422T171623
CREATED:20250812T072937Z
LAST-MODIFIED:20250813T024635Z
UID:6555-1755072000-1755104400@ibs.ac.id
SUMMARY:AI OPPORTUNITY LEARNING Batch 9
DESCRIPTION:📣 Mau belajar AI langsung dari praktisi industri secara GRATIS?\nYuk gabung di AI OPPORTUNITY LEARNING Batch 9 – program pembelajaran interaktif dan menyenangkan yang bisa kamu ikuti secara online dari mana saja! \n📅 Rabu\, 13 Agustus 2025\n🕘 09.00 – 13.00 WIB\n📍 Online via Zoom \n✨ Fasilitas yang kamu dapatkan:\n✅ Mentoring langsung dari para ahli\n✅ Sertifikat digital (E-Certificate)\n✅ Akses penuh ke Learning Management System\n✅ Bangun koneksi lewat komunitas AI\n✅ Giveaway spesial untuk peserta aktif! \n📘 Materi pembelajaran meliputi:\nAI Fundamentals: Pengenalan AI\, tools AI\, dan etika penggunaan\nGenerative AI: Dasar-dasar AI Generatif & LLM\nResponsible AI: Prinsip tanggung jawab dan keamanan dalam teknologi AI \n🎤 Narasumber inspiratif yang akan menemani kamu:\nAdhi Nugraha – Co-Founder BikinRindu\nRahmat Anggara – CEO Qasir.id (Alumni IBS)\nAnnisa Ulkhairiyah – Program Manager Nortis AI \n📲 Yuk daftar sekarang di:\nbit.ly/NORTIS-AIOL9\n(Atau langsung scan QR dari poster ya!) \n📌 Diselenggarakan oleh Nortis AI\nDidukung oleh: Google.org\, ADB\, AVPN\nBekerja sama dengan: Indigo & Indonesia Banking School Jakarta
URL:https://ibs.ac.id/event/ai-opportunity-learning-batch-9/
ATTACH;FMTTYPE=image/jpeg:https://ibs.ac.id/wp-content/uploads/2025/08/IBS-Nortis.jpeg
END:VEVENT
END:VCALENDAR